BEGIN:VCALENDAR
VERSION:2.0
PRODID:-//ChamberMaster//Event Calendar 2.0//EN
METHOD:PUBLISH
X-PUBLISHED-TTL:P3D
REFRESH-INTERVAL:P3D
CALSCALE:GREGORIAN
BEGIN:VEVENT
DTSTART:20231214T213000Z
DTEND:20231214T233000Z
X-MICROSOFT-CDO-ALLDAYEVENT:FALSE
SUMMARY:Winter Social at Fenwick Shores
DESCRIPTION:Join the Bethany-Fenwick Area Chamber of Commerce for a Winter Social at Fenwick Shores on Thursday\, December 14\, 2023.  Stop by after work to see Fenwick Shores' beautiful holiday decor\, enjoy refreshments\, or mingle with local businesses and community members before the holidays.
X-ALT-DESC;FMTTYPE=text/html:Join the Bethany-Fenwick Area Chamber of Commerce for a Winter Social at Fenwick Shores on Thursday\, December 14\, 2023.&nbsp\; Stop by after work to see Fenwick Shores&#39\; beautiful holiday decor\, enjoy refreshments\, or mingle with local businesses and community members before the holidays.&nbsp\;
LOCATION:Fenwick Shores 1501 Coastal Hwy. Fenwick Island\, DE 19944
UID:e.2126.27134
SEQUENCE:3
DTSTAMP:20260420T152448Z
URL:http://business.thequietresorts.com/events/details/winter-social-at-fenwick-shores-27134
END:VEVENT

END:VCALENDAR
