BEGIN:VCALENDAR
VERSION:2.0
PRODID:-//ChamberMaster//Event Calendar 2.0//EN
METHOD:PUBLISH
X-PUBLISHED-TTL:P3D
REFRESH-INTERVAL:P3D
CALSCALE:GREGORIAN
BEGIN:VEVENT
DTSTART:20231109T220000Z
DTEND:20231110T000000Z
X-MICROSOFT-CDO-ALLDAYEVENT:FALSE
SUMMARY:Winter Lecture Series with the Delaware Center for the Inland Bays
DESCRIPTION:Please join us for our first Lecture Series of the season "Rooting in Nature: Supporting Healthy Soils & Habitats in the Inland Bays" on Thursday\, November 9th from 5-7pm.\n\n			\n\n			Blake Moore\, with the University of Delaware Cooperative Extension\, will provide an introduction to soils and the benefits of soil health. Helen E. Raleigh\, from Story Hill Farm\, will discuss her experience as a local farmer and what practices she utilizes to promote healthy native habitats.\n\n			\n\n			There are two options for attending this hybrid event: in-person at the Georgetown Public Library or virtually via Zoom.\n\n			\n\n			This event is free\, but in-person space is limited!
X-ALT-DESC;FMTTYPE=text/html:<table border="0" cellpadding="0" cellspacing="0" style="width:100.0%\;" width="100%">\n	<tbody>\n		<tr>\n			<td style="padding:6.0pt 6.0pt 6.0pt 6.0pt\;"><span style="color:black\;"><span style="font-family:arial\,sans-serif\;"><span style="font-size:12.0pt\;">Please join us for our first Lecture Series of the season <em><span style="font-family:arial\,sans-serif\;">&quot\;Rooting in Nature: Supporting Healthy Soils &amp\; Habitats in the Inland Bays&quot\; </span></em>on <strong><span style="font-family:arial\,sans-serif\;">Thursday\, November 9th from 5-7pm</span></strong>.<br />\n			<br />\n			Blake Moore\, with the University of Delaware Cooperative Extension\, will provide an introduction to soils and the benefits of soil health. Helen E. Raleigh\, from Story Hill Farm\, will discuss her experience as a local farmer and what practices she utilizes to promote healthy native habitats.<br />\n			<br />\n			There are two options for attending this hybrid event: in-person at the Georgetown Public Library or virtually via Zoom.<br />\n			<br />\n			This event is free\, but in-person space is limited!&nbsp\;</span></span></span></td>\n		</tr>\n	</tbody>\n</table>\n
LOCATION:Online - Click here. OR Georgetown Public Library 123 W. Pine St. Georgetown\, DE 19947
UID:e.2126.27028
SEQUENCE:3
DTSTAMP:20260420T170009Z
URL:http://business.thequietresorts.com/events/details/winter-lecture-series-with-the-delaware-center-for-the-inland-bays-27028
END:VEVENT

END:VCALENDAR
