BEGIN:VCALENDAR
VERSION:2.0
PRODID:-//ChamberMaster//Event Calendar 2.0//EN
METHOD:PUBLISH
X-PUBLISHED-TTL:P3D
REFRESH-INTERVAL:P3D
CALSCALE:GREGORIAN
BEGIN:VEVENT
DTSTART:20221117T220000Z
DTEND:20221118T000000Z
X-MICROSOFT-CDO-ALLDAYEVENT:FALSE
SUMMARY:Winter Lecture Series - The Science of Oysters: A Shucking Good Time
DESCRIPTION:Aw\, shucks! We're kicking off our new Winter Lecture Series on November 17th with The Science of Oysters: A Shucking Good Time! Join us to learn what makes these bivalves so beneficial\, perfect your shucking technique with a culinary demo\, and slurp some tasty local oysters! Dr. Ed Hale\, Assistant Professor at the University of Delaware's School for Marine Science and Policy\, will share with us the unique biology of oysters and their critical contributions to our ecosystem. Afterward\, Asher Truitt\, Assistant Chef at Harbour at Canal Square\, will highlight the culinary importance of the oyster to our local area with a shucking demo. This FREE event includes complimentary oysters and beverages\, but seating is limited- so pre-register today! http://ow.ly/mzpf50LgYxa There are two options for attending this hybrid event: in-person at the Center's office or virtually via Zoom. Please note that the oyster shucking demonstration will only be available to in-person participants. This event is free\, but in-person space is limited! Questions? Please contact Jackie Knoll at jknoll@inlandbays.org. Attendance Option #1: Attend in person at the Center's office located at 39375 Inlet Road\, Rehoboth Beach\, DE 19971. Masks are optional\, but we kindly ask participants to stay home or join virtually if anyone in your party has been feeling sick. Attendance Option #2: Participate virtually via Zoom. (Zoom login information will be provided closer to the event date.)
X-ALT-DESC;FMTTYPE=text/html:Aw\, shucks! We&#39\;re kicking off our new Winter Lecture Series on November 17th with The Science of Oysters: A Shucking Good Time! Join us to learn what makes these bivalves so beneficial\, perfect your shucking technique with a culinary demo\, and slurp some tasty local oysters! Dr. Ed Hale\, Assistant Professor at the University of Delaware&#39\;s School for Marine Science and Policy\, will share with us the unique biology of oysters and their critical contributions to our ecosystem. Afterward\, Asher Truitt\, Assistant Chef at Harbour at Canal Square\, will highlight the culinary importance of the oyster to our local area with a shucking demo. This FREE event includes complimentary oysters and beverages\, but seating is limited- so pre-register today! http://ow.ly/mzpf50LgYxa There are two options for attending this hybrid event: in-person at the Center&#39\;s office or virtually via Zoom. Please note that the oyster shucking demonstration will only be available to in-person participants. This event is free\, but in-person space is limited! Questions? Please contact Jackie Knoll at jknoll@inlandbays.org. Attendance Option #1: Attend in person at the Center&#39\;s office located at 39375 Inlet Road\, Rehoboth Beach\, DE 19971. Masks are optional\, but we kindly ask participants to stay home or join virtually if anyone in your party has been feeling sick. Attendance Option #2: Participate virtually via Zoom. (Zoom login information will be provided closer to the event date.)
LOCATION:Delaware Center for the Inland Bays: 39375 Inlet Rd. Rehoboth Beach\, DE 19971
UID:e.2126.24514
SEQUENCE:3
DTSTAMP:20260421T142313Z
URL:http://business.thequietresorts.com/events/details/winter-lecture-series-the-science-of-oysters-a-shucking-good-time-24514
END:VEVENT

END:VCALENDAR
