BEGIN:VCALENDAR
VERSION:2.0
PRODID:-//ChamberMaster//Event Calendar 2.0//EN
METHOD:PUBLISH
X-PUBLISHED-TTL:P3D
REFRESH-INTERVAL:P3D
CALSCALE:GREGORIAN
BEGIN:VEVENT
DTSTART:20230126T220000Z
DTEND:20230127T000000Z
X-MICROSOFT-CDO-ALLDAYEVENT:FALSE
SUMMARY:Winter Lecture Series event – “Talking Trash: Impacts and Solutions to Debris in Delaware”
DESCRIPTION:Please join the Delaware Center for the Inland Bays for the second installment in our Winter Lecture Series event   "Talking Trash: Impacts and Solutions to Debris in Delaware" on Thursday\, January 26th from 5-7 pm at the South Coastal Library in Bethany Beach. Kathleen Bergin with DNREC's Division of Watershed Stewardship will provide an overview of marine debris\, including its impact on navigation and ways to help reduce our impact. Hayden Boettcher\, a doctoral candidate in the School of Marine Science and Policy at the University of Delaware\, will discuss microplastics and their effect on local marine life. Attendees will have the opportunity to enter to win one of two raffle prizes that help address microplastic pollution. Free terrapin excluder devices (TEDs) bycatch reduction devices that prevent diamondback terrapin turtles and other aquatic wildlife from getting trapped in recreational crab pots will also be available for attendees to take home. Pre-Registration is required\, pre-register here: bit.ly/WLSMarineDebris
X-ALT-DESC;FMTTYPE=text/html:Please join the Delaware Center for the Inland Bays for the second installment in our Winter Lecture Series event &ndash\; &ldquo\;Talking Trash: Impacts and Solutions to Debris in Delaware&rdquo\; on Thursday\, January 26th from 5-7 pm at the South Coastal Library in Bethany Beach. Kathleen Bergin with DNREC&rsquo\;s Division of Watershed Stewardship will provide an overview of marine debris\, including its impact on navigation and ways to help reduce our impact. Hayden Boettcher\, a doctoral candidate in the School of Marine Science and Policy at the University of Delaware\, will discuss microplastics and their effect on local marine life. Attendees will have the opportunity to enter to win one of two raffle prizes that help address microplastic pollution. Free terrapin excluder devices (TEDs)&mdash\;bycatch reduction devices that prevent diamondback terrapin turtles and other aquatic wildlife from getting trapped in recreational crab pots&mdash\;will also be available for attendees to take home. Pre-Registration is required\, pre-register here: bit.ly/WLSMarineDebris
LOCATION:South Coastal Library\, 43 Kent Ave. Bethany Beach\, DE
UID:e.2126.25075
SEQUENCE:3
DTSTAMP:20260421T105408Z
URL:http://business.thequietresorts.com/events/details/winter-lecture-series-event-talking-trash-impacts-and-solutions-to-debris-in-delaware-25075
END:VEVENT

END:VCALENDAR
