BEGIN:VCALENDAR
VERSION:2.0
PRODID:-//ChamberMaster//Event Calendar 2.0//EN
METHOD:PUBLISH
X-PUBLISHED-TTL:P3D
REFRESH-INTERVAL:P3D
CALSCALE:GREGORIAN
BEGIN:VEVENT
DTSTART:20200227T003000Z
DTEND:20200227T020000Z
X-MICROSOFT-CDO-ALLDAYEVENT:FALSE
SUMMARY:Wingo Bingo at Bethany Blues Bethany Beach!
DESCRIPTION:Every Wednesday\, join M.C. Stevie Jay and DJ Magellan at Bethany Blues Bethany Beach from 7:30- 9:00 P.M for Wingo Bingo! Free bingo and get 10 wings for just $3!!! Lots of other drink and food specials too. See you at Bethany Blues of Bethany! Check out our Facebook page for the Your Bonus Bingo Card Password every week!!
X-ALT-DESC;FMTTYPE=text/html:<span style="font-size: 14px\;"><span style="font-family: arial\;">Every Wednesday\, join M.C. Stevie Jay and DJ Magellan at Bethany Blues Bethany Beach from 7:30- 9:00 P.M for Wingo Bingo! Free bingo and get 10 wings for just $3!!! Lots of other drink and food specials too. See you at Bethany Blues of Bethany! Check out our Facebook page for the Your Bonus Bingo Card Password every week!!</span></span>
LOCATION:Bethany Blues 6 N Pennsylvania Ave Bethany Beach\, DE 19930
UID:e.2126.20123
SEQUENCE:3
DTSTAMP:20260426T003306Z
URL:http://business.thequietresorts.com/events/details/wingo-bingo-at-bethany-blues-bethany-beach-02-26-2020-20123
END:VEVENT

END:VCALENDAR
