BEGIN:VCALENDAR
VERSION:2.0
PRODID:-//ChamberMaster//Event Calendar 2.0//EN
METHOD:PUBLISH
X-PUBLISHED-TTL:P3D
REFRESH-INTERVAL:P3D
CALSCALE:GREGORIAN
BEGIN:VEVENT
DTSTART:20200311T233000Z
DTEND:20200312T010000Z
X-MICROSOFT-CDO-ALLDAYEVENT:FALSE
SUMMARY:Wingo BINGO at Bethany Blues
DESCRIPTION:Every Wednesday\, join M.C. Stevie Jay and DJ Magellan at Bethany Blues Bethany Beach from 7:30-9:00 P.M for Wingo Bingo! Free bingo\, wings specials\, and drink specials!
X-ALT-DESC;FMTTYPE=text/html:<span style="font-family: arial\;"><span style="color: rgb(29\, 33\, 41)\; font-size: 14px\;">Every Wednesday\, join M.C. Stevie Jay and DJ Magellan at Bethany Blues Bethany Beach from 7:30-9:00 P.M for Wingo Bingo! Free bingo\, wings specials\, and drink specials!</span></span>
LOCATION:6 N. Pennsylvania Avenue Bethany Beach DE\, 19930
UID:e.2126.20283
SEQUENCE:3
DTSTAMP:20260425T225129Z
URL:http://business.thequietresorts.com/events/details/wingo-bingo-at-bethany-blues-20283
END:VEVENT

END:VCALENDAR
