BEGIN:VCALENDAR
VERSION:2.0
PRODID:-//ChamberMaster//Event Calendar 2.0//EN
METHOD:PUBLISH
X-PUBLISHED-TTL:P3D
REFRESH-INTERVAL:P3D
CALSCALE:GREGORIAN
BEGIN:VEVENT
DTSTART:20230909T180000Z
DTEND:20230909T210000Z
X-MICROSOFT-CDO-ALLDAYEVENT:FALSE
SUMMARY:Wine Tasting - 45th Annual Bethany Beach Boardwalk Arts Festival
DESCRIPTION:For 45 years\, festival-goers have savored the end of summer at the annual Arts Festival\, proving there is not a more beautiful backdrop for unique works of art. On this commemorative year\, The Bethany- Fenwick Area Chamber of Commerce invites you to a Wine Tasting Event\, on Saturday\, September 9 from 2:00 PM - 5:00 PM\, sponsored by Beach Liquors. Harvest Tide will be hosting this event in their beautiful venue\, located right in the heart of the Festival happenings! The Wine Tasting is a ticketed\, non-refundable\, event. Space is limited. Wait-list option will be available.\n\n\n\nTicket Cost: $30\n\nTicket Includes:\n\n- Light fare\n\n- Tastings from a variety of over 60 wines\n\n\n\n*A portion of the proceeds from the Wine Tasting will benefit local elementary and middle school art programs.*\n\n\n\nPlease contact events@thequietresorts.com if you have any questions!\n\n\n\nGENERAL ARTS FESTIVAL INFORMATION:\n\nMeet the Artist Reception: Friday\, September 8 from 5:00 PM - 7:00 PM\n\nArts Festival: Saturday\, September 9 from 10:00 AM - 5:00 PM\n\nWine Tasting: Saturday\, September 9 from 2:00 PM - 5:00 PM\n\n\n\nInclement Weather\n\nIn the event that inclement weather is forecasted that poses a threat to public safety\, the festival has a rain date scheduled for Sunday\, September 10\, 2023. All announcements regarding the show date will be made on this website. However\, the Wine Tasting will take place on September 9\, rain or shine.\n\n\n\nVolunteers:\n\nIf you would like to volunteer for the 45th Annual Bethany Beach Boardwalk Arts Festival\, check out available opportunities here.\n\n\n\nAccommodations:\n\nStay tuned for upcoming deals in the surrounding areas for Art Show weekend!\n\n\n\nThe Bethany-Fenwick Area Chamber of Commerce is a non-profit organization dedicated to enhancing business throughout our area and promoting The Quiet Resorts as a year-round tourism destination.
X-ALT-DESC;FMTTYPE=text/html:<div><span style="font-size:16px\;"><span style="color:#000000\;"><small><span style="font-family:arial\;"><span style="background-color: rgb(255\, 255\, 255)\;">For 45 years\, festival-goers have savored the end of summer at the annual Arts Festival\, proving there is not a more beautiful backdrop for unique works of art. On this commemorative year\, The Bethany- Fenwick Area Chamber of Commerce invites you to a Wine Tasting Event\, on Saturday\, September 9 from 2:00 PM - 5:00 PM\, sponsored by&nbsp\;Beach Liquors. Harvest Tide will be hosting this event in their beautiful venue\, located right in the heart of the Festival happenings!</span>&nbsp\;The Wine Tasting&nbsp\;is a&nbsp\;ticketed\, non-refundable\, event. Space is&nbsp\;limited. Wait-list option will be available.</span></small></span></span><br />\n<br />\n<span style="font-size:14px\;"><span style="font-family:arial\;">Ticket Cost: $30<br />\nTicket Includes:<br />\n- Light fare<br />\n-&nbsp\;Tastings from a variety of over 60&nbsp\;wines</span></span><br />\n<br />\n<b>*A portion of the proceeds from the Wine Tasting will benefit local elementary and middle school art programs.*</b><br />\n<br />\n<span style="font-size:16px\;"><span style="font-size:14px\;"><span style="font-family:arial\;"><strong><font color="#333333">Please contact events@thequietresorts.com if you have any questions!</font></strong></span></span><br />\n<br />\n<small><span style="font-family:arial\;"><span style="color:#000000\;"><strong background-color:="" font-size:="" style="color: rgb(51\, 51\, 51)\; font-family: sans-serif\, Arial\, Verdana\, " trebuchet="">GENERAL ARTS FESTIVAL INFORMATION:</strong></span></span></small><br />\n<small><span style="font-family:arial\;"><span style="color:#000000\;"><strong background-color:="" font-size:="" style="color: rgb(51\, 51\, 51)\; font-family: sans-serif\, Arial\, Verdana\, " trebuchet="">Meet the Artist Reception: Friday\, September 8 from 5:00 PM - 7:00 PM<br />\nArts Festival: Saturday\, September 9 from 10:00 AM - 5:00 PM<br />\nWine Tasting: Saturday\, September 9 from 2:00 PM - 5:00 PM<br />\n<br />\nInclement Weather</strong><br background-color:="" font-size:="" style="color: rgb(51\, 51\, 51)\; font-family: sans-serif\, Arial\, Verdana\, " trebuchet="" />\n<span style="background-color: rgb(255\, 255\, 255)\;">In the event that inclement weather is forecasted that poses a threat to public safety\, the festival has a rain date scheduled for Sunday\, September 10\, 2023. All announcements regarding the show date will be made on this website. <strong>However\, the Wine Tasting&nbsp\;will take place on September 9\, rain or shine.</strong></span></span></span></small><br background-color:="" font-size:="" style="color: rgb(51\, 51\, 51)\; font-family: sans-serif\, Arial\, Verdana\, " trebuchet="" />\n<br />\n<small><span style="font-family:arial\;"><span style="color:#000000\;"><strong>Volunteers:</strong><br />\nIf you would like to volunteer for the 45th Annual Bethany Beach Boardwalk Arts Festival\, check out available opportunities </span><a href="https://business.bethany-fenwick.org/events/details/45th-annual-bethany-beach-boardwalk-arts-festival-volunteer-registration-25854"><span style="color:#000000\;">here</span></a><span style="color:#000000\;">.</span></span></small><br />\n<br />\n<span style="color:#000000\;"><small><span style="font-family:arial\;"><strong>Accommodations:</strong><br />\nStay tuned for upcoming deals in the surrounding areas for Art Show weekend!</span></small></span></span></div>\n\n<div><br />\n<span style="font-size:16px\;"><span style="color:#000000\;"><small><span style="font-family:arial\;"><strong><em>The Bethany-Fenwick Area Chamber of Commerce is a non-profit organization dedicated to enhancing business throughout our area and promoting The Quiet Resorts as a year-round tourism destination.&nbsp\;</em></strong></span></small></span></span></div>\n
LOCATION:Harvest Tide Steakhouse - 98 Garfield Parkway\, 2nd Floor\, Bethany Beach
UID:e.2126.26154
SEQUENCE:3
DTSTAMP:20260420T195935Z
URL:http://business.thequietresorts.com/events/details/wine-tasting-45th-annual-bethany-beach-boardwalk-arts-festival-26154
END:VEVENT

END:VCALENDAR
