BEGIN:VCALENDAR
VERSION:2.0
PRODID:-//ChamberMaster//Event Calendar 2.0//EN
METHOD:PUBLISH
X-PUBLISHED-TTL:P3D
REFRESH-INTERVAL:P3D
CALSCALE:GREGORIAN
BEGIN:VEVENT
DTSTART:20200226T230000Z
DTEND:20200227T020000Z
X-MICROSOFT-CDO-ALLDAYEVENT:FALSE
SUMMARY:Wine Dinner: Rodney Strong Vineyards
DESCRIPTION:Join us for a five-course wine dinner prepared by Executive Chef Christian Costantino featuring fresh\, local cuisine paired with Rodney Strong Vineyards wines!
X-ALT-DESC;FMTTYPE=text/html:<span style="font-family: arial\;"><span style="color: rgb(29\, 33\, 41)\; font-size: 14px\;">Join us for a five-course wine dinner prepared by Executive Chef Christian Costantino featuring fresh\, local cuisine paired with Rodney Strong Vineyards&nbsp\;wines!</span></span>
LOCATION:Just Hooked 1500 Coastal Hwy Fenwick Island\, DE 19944
UID:e.2126.20070
SEQUENCE:3
DTSTAMP:20260426T003240Z
URL:http://business.thequietresorts.com/events/details/wine-dinner-rodney-strong-vineyards-20070
END:VEVENT

END:VCALENDAR
