BEGIN:VCALENDAR
VERSION:2.0
PRODID:-//ChamberMaster//Event Calendar 2.0//EN
METHOD:PUBLISH
X-PUBLISHED-TTL:P3D
REFRESH-INTERVAL:P3D
CALSCALE:GREGORIAN
BEGIN:VEVENT
DTSTART:20240502T223000Z
DTEND:20240503T013000Z
X-MICROSOFT-CDO-ALLDAYEVENT:FALSE
SUMMARY:Win\, Place or Die - An Interactive Murder Mystery at Salted Vines
DESCRIPTION:Join Salted Vines for an Interactive Murder Mystery Night!\n\n"Win\, Place\, or Die!"\n\n \n\nRosemary & Bob Tilden are hosting a party before the big race! Famous jockey\, Elliot Lester Shwartz is a favorite to win by riding his thoroughbred horse\, Dead Man's Curve. Henry Trotter\, famous race caller\, is ready to call the race... He runs a gambling ring\, and he is ready to score more $$ with the big race. Not to be forgotten\, Samanatha Smart\, a horse trainer who is looking to gain more experience and exposure at this race.\n\n \n\nOne of the four will not make it through the party alive.\n\n \n\nYOU\, the audience\, will have to put your detective skills to work to guess the motive and who had the opportunity for this murder. Solving the mystery will get you a prize!\n\n \n\nWear your BEST Kentucky Derby Hat as prizes will be given out for prettiest\, funniest\, and strangest hat!\n\n\n\nTime: Show starts at 6:30pm and runs 90 minutes.\n\n**Doors open at 6pm. PLEASE BE PROMPT.**\n\n$50 per person.\n\n \n\nEnjoy snacks from a fabulous charcuterie spread by Little Biddy Boujee Boards and delicious desserts from Kristina's Kitchen.
X-ALT-DESC;FMTTYPE=text/html:<div>\n<div>\n<div style="margin-left:calc(-0.5*var(--bs-gutter-x))\; margin-right:calc(-0.5*var(--bs-gutter-x))">\n<div>\n<div><span style="font-size:20px\;"><strong>Join Salted Vines&nbsp\;for an Interactive Murder Mystery Night!</strong></span></div>\n\n<div><span style="font-size:20px\;"><strong>&quot\;Win\, Place\, or Die!&quot\;</strong></span></div>\n\n<div>&nbsp\;</div>\n\n<div>Rosemary &amp\; Bob Tilden are hosting a party before the big race! Famous jockey\, Elliot Lester Shwartz is a favorite to win by riding his thoroughbred horse\, Dead Man&#39\;s Curve. Henry Trotter\, famous race caller\, is ready to call the race... He runs a gambling ring\, and he is ready to score more $$ with the big race. Not to be forgotten\, Samanatha Smart\, a horse trainer who is looking to gain more experience and exposure at this race.</div>\n\n<div>&nbsp\;</div>\n\n<div>One of the four will not make it through the party alive.</div>\n\n<div>&nbsp\;</div>\n\n<div>YOU\, the audience\, will have to put your detective skills to work to guess the motive and who had the opportunity for this murder. Solving the mystery will get you a prize!</div>\n\n<div>&nbsp\;</div>\n\n<div>Wear your BEST Kentucky Derby Hat as prizes will be given out for prettiest\, funniest\, and strangest hat!</div>\n\n<div><br />\nTime: Show starts at 6:30pm and runs 90 minutes.<br />\n**Doors open at 6pm. PLEASE BE PROMPT.**<br />\n$50 per person.</div>\n\n<div>&nbsp\;</div>\n\n<div>Enjoy snacks from a fabulous charcuterie spread by Little Biddy Boujee Boards and delicious desserts from Kristina&#39\;s Kitchen.</div>\n</div>\n</div>\n</div>\n</div>\n
LOCATION:Salted Vines Vineyard & Winery 32512 Blackwater Road Frankford\, DE 19945
UID:e.2126.29242
SEQUENCE:3
DTSTAMP:20260420T042025Z
URL:http://business.thequietresorts.com/events/details/win-place-or-die-an-interactive-murder-mystery-at-salted-vines-29242
END:VEVENT

END:VCALENDAR
