BEGIN:VCALENDAR
VERSION:2.0
PRODID:-//ChamberMaster//Event Calendar 2.0//EN
METHOD:PUBLISH
X-PUBLISHED-TTL:P3D
REFRESH-INTERVAL:P3D
CALSCALE:GREGORIAN
BEGIN:VEVENT
DTSTART:20230817T230000Z
DTEND:20230818T000000Z
X-MICROSOFT-CDO-ALLDAYEVENT:FALSE
SUMMARY:Will Fern
DESCRIPTION:A seasoned magician with over 20 years performing experience\, Will Fern is known around the country for his diverse magical career. From close-up magic performed at all manner of private and corporate affairs\, to team building workshops\, trade show booth "edutainment"\, and theater performances Will is constantly working\, at over 200 shows per year. A masterful comedy magician\, Will works audience members into his effects with arresting imaginative skill. You will be amused   even as you are being astonished at his performance GUARANTEED! Along with such clients as Novartis\, Verizon\, Johnson & Johnson and Goldman Sachs\, Will has been employed as the resident magician at several top Caribbean resorts and 4-star New York area restaurants. Will is also a regular performer at the world-renowned Magic Castle in Hollywood\, CA\, and just this July won the International Brotherhood of Magician's Award for "International Champion of Strolling Magic".
X-ALT-DESC;FMTTYPE=text/html:<p>A seasoned magician with over 20 years performing experience\, Will Fern is known around the country for his diverse magical career. From close-up magic performed at all manner of private and corporate affairs\, to team building workshops\, trade show booth &ldquo\;edutainment&rdquo\;\, and theater performances&hellip\;Will is constantly working\, at over 200 shows per year. A masterful comedy magician\, Will works audience members into his effects with arresting imaginative skill. You will be amused &hellip\; even as you are being astonished at his performance&hellip\;GUARANTEED! Along with such clients as Novartis\, Verizon\, Johnson &amp\; Johnson and Goldman Sachs\, Will has been employed as the resident magician at several top Caribbean resorts and 4-star New York area restaurants. Will is also a regular performer at the world-renowned Magic Castle in Hollywood\, CA\, and just this July won the International Brotherhood of Magician&rsquo\;s Award for &ldquo\;International Champion of Strolling Magic&rdquo\;.&nbsp\;</p>\n\n<p>&nbsp\;</p>\n
LOCATION:Dickens Parlour Theatre 31810 Good Earth Lane Ocean View\, DE 19970
UID:e.2126.26065
SEQUENCE:3
DTSTAMP:20260420T213213Z
URL:http://business.thequietresorts.com/events/details/will-fern-08-17-2023-26065
END:VEVENT

END:VCALENDAR
