BEGIN:VCALENDAR
VERSION:2.0
PRODID:-//ChamberMaster//Event Calendar 2.0//EN
METHOD:PUBLISH
X-PUBLISHED-TTL:P3D
REFRESH-INTERVAL:P3D
CALSCALE:GREGORIAN
BEGIN:VEVENT
DTSTART;VALUE=DATE:20230916
DTEND;VALUE=DATE:20230924
TRANSP:TRANSPARENT
X-MICROSOFT-CDO-ALLDAYEVENT:TRUE
SUMMARY:Wild Wine Week Fall 2023
DESCRIPTION:Are you ready for the best wine sale of the year?! We are stocked with great deals on your everyday favorites or you may be ready to try something new. We have wine experts on hand to assist personalizing your case with exactly what you want. Our knowledgeable staff can easily help you fill a case or two.\n\n\n	No pre-orders\n	No IOUs\n	20% OFF applies to in stock items only\n	Mix 12 - 750mls or 6 - 1.5Ls\n\n\nThis week only save 20% OFF on cases of in stock products! \n\nWe will have daily tastings available from 12-3pm & 3-6pm (Saturday and Sunday) or  4-7pm (Monday-Friday). Follow us on Facebook & Instagram to see what will be tasted each day.
X-ALT-DESC;FMTTYPE=text/html:<p>Are you ready for the best wine sale of the year?! We are stocked with great deals on your everyday favorites or you may be ready to try something new. We have wine experts on hand to assist personalizing your case with exactly what you want. Our knowledgeable staff can easily help you fill a case or two.</p>\n\n<ul>\n	<li>No pre-orders</li>\n	<li>No IOUs</li>\n	<li>20% OFF applies to in stock items only</li>\n	<li>Mix 12 - 750mls or 6 - 1.5Ls</li>\n</ul>\n\n<p>This week only save&nbsp\;<strong>20% OFF</strong>&nbsp\;on cases of in stock products!&nbsp\;</p>\n\n<p>We will have daily tastings available from 12-3pm &amp\; 3-6pm (Saturday and Sunday) or&nbsp\; 4-7pm (Monday-Friday).&nbsp\;Follow us on&nbsp\;<a href="https://www.facebook.com/banksbooze">Facebook</a>&nbsp\;&amp\;&nbsp\;<a href="https://www.instagram.com/banksbooze/">Instagram</a>&nbsp\;to see what will be tasted each day.</p>\n
LOCATION:Banks Wines & Spirits 38014 Town Center Dr. Millville\, DE 19967 In the shopping center next to Giant
UID:e.2126.26901
SEQUENCE:3
DTSTAMP:20260420T195533Z
URL:http://business.thequietresorts.com/events/details/wild-wine-week-fall-2023-26901
END:VEVENT

END:VCALENDAR
