BEGIN:VCALENDAR
VERSION:2.0
PRODID:-//ChamberMaster//Event Calendar 2.0//EN
METHOD:PUBLISH
X-PUBLISHED-TTL:P3D
REFRESH-INTERVAL:P3D
CALSCALE:GREGORIAN
BEGIN:VEVENT
DTSTART:20230718T140000Z
DTEND:20230718T160000Z
X-MICROSOFT-CDO-ALLDAYEVENT:FALSE
SUMMARY:Who's Hiding in Plain Sight? - DE Center for the Inland Bays at the IB Garden Center
DESCRIPTION:Join the Delaware Center for the Inland Bays and the Inland Bays Garden Center for a series of fun interactive programs that focus on critters you can find in and around your garden! Each program will include a take-home project! (Family Workshops for ages 5-12)\n\n\n\nOther workshop dates:\n\n\n	July 11 - Magnificent Monarchs\n	July 25 - Inland Bays Birding: Feeder Frenzy \n\n\nThere is a suggested $20 donation per group\, all proceeds benefit the Delaware Center for the Inland Bays. Workshops take place at the Inland Bays Garden Center - 38320 Muddy Neck Rd Frankford\, DE 19945. \n\n\n\nQuestions? Contact Maddie Fox at mfox@inlandbays.org.
X-ALT-DESC;FMTTYPE=text/html:<p>Join the Delaware Center for the Inland Bays and the Inland Bays Garden Center for a series of fun interactive programs that focus on critters you can find in and around your garden! Each program will include a take-home project! (Family Workshops for ages 5-12)<br />\n<br />\nOther workshop dates:</p>\n\n<ul>\n	<li>July 11 - Magnificent Monarchs</li>\n	<li>July 25 - Inland Bays Birding: Feeder Frenzy&nbsp\;</li>\n</ul>\n\n<p>There is a suggested $20 donation per group\, all proceeds benefit the Delaware Center for the Inland Bays. Workshops take place at the Inland Bays Garden Center - 38320 Muddy Neck Rd Frankford\, DE 19945.&nbsp\;<br />\n<br />\nQuestions? Contact Maddie Fox at mfox@inlandbays.org.&nbsp\;</p>\n
LOCATION:Inland Bays Garden Center: 38320 Muddy Neck Rd Frankford\, DE 19945
UID:e.2126.26151
SEQUENCE:3
DTSTAMP:20260420T230844Z
URL:http://business.thequietresorts.com/events/details/who-s-hiding-in-plain-sight-de-center-for-the-inland-bays-at-the-ib-garden-center-26151
END:VEVENT

END:VCALENDAR
