BEGIN:VCALENDAR
VERSION:2.0
PRODID:-//ChamberMaster//Event Calendar 2.0//EN
METHOD:PUBLISH
X-PUBLISHED-TTL:P3D
REFRESH-INTERVAL:P3D
CALSCALE:GREGORIAN
BEGIN:VEVENT
DTSTART:20200508T150000Z
DTEND:20200508T160000Z
X-MICROSOFT-CDO-ALLDAYEVENT:FALSE
SUMMARY:When Delaware Reopens - Are you Ready? - Zoom Webinar
DESCRIPTION:Friday May 8\, 2020 at 11:00 AM (Webinar)\n\nhttp://events.constantcontact.com/register/event?llr=hg69x9dab&oeidk=a07eh2mnljtefb0574c\n\n \n\nDelaware SCORE wants to help you evaluate whether you and your business are ready to reopen when Delaware reopens.  The questions include Could you?\, Would you? and Should you? We will use a multifunctional checklist to help you understand what is right for your business.
X-ALT-DESC;FMTTYPE=text/html:<span style="font-size:14px\;"><span style="font-family:arial\;"><span style="color:#403F42\;">Friday May 8\, 2020 at 11:00 AM (Webinar)</span><br />\n<span style="color:#403F42\;"><a href="http://events.constantcontact.com/register/event?llr=hg69x9dab&amp\;oeidk=a07eh2mnljtefb0574c">http://events.constantcontact.com/register/event?llr=hg69x9dab&amp\;oeidk=a07eh2mnljtefb0574c</a></span><br />\n&nbsp\;<br />\n<span style="color:#333333\;">Delaware SCORE wants to help you evaluate whether you and your business are ready to reopen when Delaware reopens.&nbsp\;&nbsp\;The questions include Could you?\, Would you? and Should you?&nbsp\;We will use a multifunctional checklist to help you understand what is right for your business.&nbsp\;</span></span></span>
LOCATION:
UID:e.2126.21519
SEQUENCE:3
DTSTAMP:20260425T194257Z
URL:http://business.thequietresorts.com/events/details/when-delaware-reopens-are-you-ready-zoom-webinar-21519
END:VEVENT

END:VCALENDAR
