BEGIN:VCALENDAR
VERSION:2.0
PRODID:-//ChamberMaster//Event Calendar 2.0//EN
METHOD:PUBLISH
X-PUBLISHED-TTL:P3D
REFRESH-INTERVAL:P3D
CALSCALE:GREGORIAN
BEGIN:VEVENT
DTSTART:20230715T140000Z
DTEND:20230715T160000Z
X-MICROSOFT-CDO-ALLDAYEVENT:FALSE
SUMMARY:“What’s Eating My Garden?” with Liz Nalle
DESCRIPTION:There are environmentally friendly and natural ways to eliminate pests and weeds in your garden that are effective.  There are more options than you think! Liz Nalle will show you how to identify beneficial and harmful insects along with those nasty weeds. You'll learn about methods that will keep your backyard safe and friendly to pets\, children and the environment. Yes\, our actions influence the immediate environment and impact future generations.\n\nBring your problem plant leaves in a tightly sealed plastic bag or a photo of your problem plant\, shrub\, tree if you'd like some assistance in identifying your garden problems.\n\nClick here for tickets!
X-ALT-DESC;FMTTYPE=text/html:<h5>There are environmentally friendly and natural ways to eliminate pests and weeds in your garden that are effective.&nbsp\; There are more options than you think! Liz Nalle will show you how to identify beneficial and harmful insects along with those nasty weeds. You&rsquo\;ll learn about methods that will keep your backyard safe and friendly to pets\, children and the environment. Yes\, our actions influence the immediate environment and impact future generations.</h5>\n\n<h5><strong>Bring your problem plant leaves in a tightly sealed plastic bag or a photo of your problem plant\, shrub\, tree if you&rsquo\;d like some assistance in identifying your garden problems.</strong></h5>\n\n<h5><a href="https://www.eventbrite.com/e/whats-eating-my-garden-with-chantal-bouchard-tickets-623693533147"><strong>Click here for tickets!</strong></a></h5>\n\n<h5>&nbsp\;</h5>\n
LOCATION:Inland Bays Garden Center 38320 Muddy Neck Rd\, Frankford\, DE\, 19945
UID:e.2126.26146
SEQUENCE:3
DTSTAMP:20260420T230845Z
URL:http://business.thequietresorts.com/events/details/what-s-eating-my-garden-with-liz-nalle-26146
END:VEVENT

END:VCALENDAR
