BEGIN:VCALENDAR
VERSION:2.0
PRODID:-//ChamberMaster//Event Calendar 2.0//EN
METHOD:PUBLISH
X-PUBLISHED-TTL:P3D
REFRESH-INTERVAL:P3D
CALSCALE:GREGORIAN
BEGIN:VEVENT
DTSTART:20210610T160000Z
DTEND:20210610T170000Z
X-MICROSOFT-CDO-ALLDAYEVENT:FALSE
SUMMARY:What Other Attorneys Say
DESCRIPTION:Do you ever wonder why attorneys in similar practice areas have different opinions?  Where do those perspectives come from?  And how can you best determine which advice is best for your family?\n\n\n\nJoin us over lunch for a webinar to discuss DIY estate planning\, the probate process\, outdated documents\, and more.\n\n\n\nFree to attend - registration required.\n\nClick here to register - https://attendee.gotowebinar.com/register/6944769839746048780\n\nOR email Meagan at MLS@pwwlaw.com
X-ALT-DESC;FMTTYPE=text/html:Do you ever wonder why attorneys in similar practice areas have different opinions?&nbsp\; Where do those perspectives come from?&nbsp\; And how can you best determine which advice is best for your family?<br />\n<br />\nJoin us over lunch for a webinar to discuss DIY estate planning\, the probate process\, outdated documents\, and more.<br />\n<br />\nFree to attend - registration required.<br />\nClick here to register -&nbsp\;<a class="plAwLUVihzEw9Kyd" href="https://attendee.gotowebinar.com/register/6944769839746048780" id="share-reg-url" rel="noopener noreferrer" style="box-sizing: border-box\; color: rgb(0\, 194\, 255)\; text-decoration-line: none\; background-image: none\; background-position: initial\; background-size: initial\; background-repeat: initial\; background-attachment: initial\; background-origin: initial\; background-clip: initial\; border: none\; padding: 0px 0px 10px\; cursor: pointer\; outline: none\; width: fit-content\; overflow: hidden\; text-overflow: ellipsis\; word-break: break-word\; font-family: Lato\, &quot\;Helvetica Neue&quot\;\, Helvetica\, Arial\, sans-serif\; font-size: 16px\; letter-spacing: 0.4px\;" target="_blank">https://attendee.gotowebinar.com/register/6944769839746048780</a><br />\nOR email Meagan at MLS@pwwlaw.com<br />\n&nbsp\;
LOCATION:This webinar is free to attend - registration required. Click here to register - https://attendee.gotowebinar.com/register/6944769839746048780 OR email Meagan at MLS@pwwlaw.com
UID:e.2126.22025
SEQUENCE:3
DTSTAMP:20260424T204001Z
URL:http://business.thequietresorts.com/events/details/what-other-attorneys-say-22025
END:VEVENT

END:VCALENDAR
