BEGIN:VCALENDAR
VERSION:2.0
PRODID:-//ChamberMaster//Event Calendar 2.0//EN
METHOD:PUBLISH
X-PUBLISHED-TTL:P3D
REFRESH-INTERVAL:P3D
CALSCALE:GREGORIAN
BEGIN:VEVENT
DTSTART:20220628T213000Z
DTEND:20220628T230000Z
X-MICROSOFT-CDO-ALLDAYEVENT:FALSE
SUMMARY:Welcome J1 International Students
DESCRIPTION:Come Be Our Guest For An American Style Picnic\n\nFree Food   Free Games   Free Prizes\n\n\n\nAll J1 Students Are Welcome\n\nMeet Other Students   Meet Local Townspeople - Enjoy a Free Meal
X-ALT-DESC;FMTTYPE=text/html:Come Be Our Guest For An American Style Picnic<br />\nFree Food &ndash\; Free Games &ndash\; Free Prizes<br />\n<br />\nAll J1 Students Are Welcome<br />\nMeet Other Students &ndash\; Meet Local Townspeople - Enjoy a Free Meal
LOCATION:St. Martha's Episcopal Church (Outside) 117 Maplewood Street\, Bethany Beach ( At Corner Of Maplewood St and Pennsylvania Ave)
UID:e.2126.23796
SEQUENCE:3
DTSTAMP:20260422T000920Z
URL:http://business.thequietresorts.com/events/details/welcome-j1-international-students-23796
END:VEVENT

END:VCALENDAR
