BEGIN:VCALENDAR
VERSION:2.0
PRODID:-//ChamberMaster//Event Calendar 2.0//EN
METHOD:PUBLISH
X-PUBLISHED-TTL:P3D
REFRESH-INTERVAL:P3D
CALSCALE:GREGORIAN
BEGIN:VEVENT
DTSTART:20211204T150000Z
DTEND:20211205T000000Z
X-MICROSOFT-CDO-ALLDAYEVENT:FALSE
SUMMARY:Weekend Wonderland in Bethany 2021
DESCRIPTION:Celebrate the holidays in style by the seaside at Weekend Wonderland in Bethany. Every Saturday in December prior to Christmas\, shoppers and visitors can take advantage of great tax free shopping\, fun activities\, and participate in The Elf on the Shelf scavenger hunt and coca crawl.\n\n\n\nElf On the Shelf Scavenger Hunt-\n\nSearch for the Elf throughout businesses in Bethany for a chance to win great donated prizes! All ages are welcome to participate - prizes will be given for adults and children each week. Winners will be announced at 5 pm every Saturday on the Bandstand. First pick up your bingo card at any participating business. (All completed bingo cards should be turned in at The Beach Life Gallery featuring Michael Orhelein to be entered into the prize drawing.)\n\n\n\nMeet Santa!\n\nDon't miss seeing Santa each Saturday!\n\n \n\n	\n		\n			Date\n			Location\n			Time\n		\n		\n			Sat.\, 12/4\n			Bethany Beach Books\n			11:15a.m. - 12:15 p.m.\n		\n		\n			Sat.\, 12/4 \n			Bethany Beach Town Hall   \n			1:00 p.m. - 3:00 p.m.\n		\n		\n			Sat.\,12/4\n			Bethany Beach Town Hall   \n			5:00 p.m. - 5:30 p.m.\n		\n		\n			Sat. 12/11\n			Bethany Beach Books\n			 11:15 a.m. - 12:15 p.m.\n		\n		\n			Sat. 12/11\n			Tidepool Toys Bethany Beach\n			4:15 p.m. - 5:15 p.m.\n		\n		\n			Sat. 12/18\n			Bethany Beach Books\n			1:15 p.m. - 2:15 p.m.\n		\n	\n\n\n\nCocoa Crawl in Downtown Bethany \n\nSaturdays from 5 p.m. - 7 p.m. \n\n\n\nParticipating Businesses \n\n\n	Bethany Beach Books\n	Bethany Blues\n	Su Casa\n	Tidepool Toys & Games\n	Topsail Steamer \n\n\n \np.p1 {margin: 0.0px 0.0px 0.0px 0.0px\; text-align: center\; font: 11.0px Raleway}
X-ALT-DESC;FMTTYPE=text/html:<span style="font-size:14px\;">Celebrate the holidays in style by the seaside at Weekend Wonderland in Bethany. Every Saturday in December prior to Christmas\, shoppers and visitors can take advantage of great tax free shopping\, fun activities\, and participate in The Elf on the Shelf scavenger hunt and coca crawl.</span><br />\n<br />\n<span style="font-size: 14px\;"><span style="font-family: arial\;"><span style="font-size: 16px\;"><span style="color: rgb(0\, 0\, 255)\;"><span style="white-space: pre-wrap\;"><strong>Elf On the Shelf Scavenger Hunt-</strong></span></span></span><br />\n<span style="color: rgb(29\, 33\, 41)\; white-space: pre-wrap\;">Search for the Elf throughout businesses in Bethany for a chance to win great donated prizes! All ages are welcome to participate - prizes will be given for adults and children each week.&nbsp\;Winners will be announced at 5 pm every Saturday on the Bandstand.&nbsp\;First pick up your bingo card at any participating business. (</span></span></span><span style="color: rgb(29\, 33\, 41)\; font-family: arial\; font-size: 14px\; white-space: pre-wrap\; background-color: rgb(255\, 255\, 255)\;">All completed bingo cards should be turned in at The Beach Life Gallery featuring Michael Orhelein to be entered into the prize drawing.)</span><br />\n<br />\n<span style="font-size: 14px\;"><span style="font-family: arial\;"><span style="font-size: 16px\;"><strong><span style="color: rgb(0\, 0\, 205)\;">Meet Santa!</span></strong></span><br />\nDon&#39\;t miss seeing Santa each Saturday!</span></span><br />\n&nbsp\;\n<table border="1" cellpadding="1" cellspacing="1" style="width: 500px\;">\n	<tbody>\n		<tr>\n			<td><span style="font-size: 14px\;"><span style="font-family: arial\;"><strong>Date</strong></span></span></td>\n			<td><span style="font-size: 14px\;"><span style="font-family: arial\;"><strong>Location</strong></span></span></td>\n			<td><span style="font-size: 14px\;"><span style="font-family: arial\;"><strong>Time</strong></span></span></td>\n		</tr>\n		<tr>\n			<td>Sat.\, 12/4</td>\n			<td>Bethany Beach Books</td>\n			<td>11:15a.m. - 12:15 p.m.</td>\n		</tr>\n		<tr>\n			<td>Sat.\, 12/4&nbsp\;</td>\n			<td>Bethany Beach Town Hall&nbsp\; &nbsp\;</td>\n			<td>1:00 p.m. - 3:00 p.m.</td>\n		</tr>\n		<tr>\n			<td>Sat.\,12/4</td>\n			<td>Bethany Beach Town Hall&nbsp\; &nbsp\;</td>\n			<td>5:00 p.m. - 5:30 p.m.</td>\n		</tr>\n		<tr>\n			<td>Sat. 12/11</td>\n			<td>Bethany Beach Books</td>\n			<td>&nbsp\;11:15 a.m. - 12:15 p.m.</td>\n		</tr>\n		<tr>\n			<td>Sat. 12/11</td>\n			<td>Tidepool Toys&nbsp\;Bethany Beach</td>\n			<td>4:15 p.m. - 5:15 p.m.</td>\n		</tr>\n		<tr>\n			<td>Sat. 12/18</td>\n			<td>Bethany Beach Books</td>\n			<td>1:15 p.m. - 2:15 p.m.</td>\n		</tr>\n	</tbody>\n</table>\n<br />\n<span style="font-family:arial\;"><span style="font-size:16px\;"><strong><span style="color:#0000FF\;">Cocoa Crawl in Downtown Bethany&nbsp\;</span></strong></span></span><br />\n<span style="color:#0000FF\;"><u><strong>Saturdays from 5 p.m. - 7 p.m.&nbsp\;</strong></u></span><br />\n<br />\n<span style="font-size:14px\;">Participating Businesses&nbsp\;</span>\n\n<ul>\n	<li><span style="font-size:14px\;">Bethany Beach Books</span></li>\n	<li><span style="font-size:14px\;">Bethany Blues</span></li>\n	<li><span style="font-size:14px\;">Su Casa</span></li>\n	<li><span style="font-size:14px\;">Tidepool Toys &amp\; Games</span></li>\n	<li><span style="font-size:14px\;">Topsail Steamer&nbsp\;</span></li>\n</ul>\n\n<p class="p1" style="text-align: left\;">&nbsp\;</p>\n<style type="text/css">p.p1 {margin: 0.0px 0.0px 0.0px 0.0px\; text-align: center\; font: 11.0px Raleway}\n</style>\n
LOCATION:Bethany Beach\, DE
UID:e.2126.23021
SEQUENCE:3
DTSTAMP:20260424T084403Z
URL:http://business.thequietresorts.com/events/details/weekend-wonderland-in-bethany-2021-23021
END:VEVENT

END:VCALENDAR
