BEGIN:VCALENDAR
VERSION:2.0
PRODID:-//ChamberMaster//Event Calendar 2.0//EN
METHOD:PUBLISH
X-PUBLISHED-TTL:P3D
REFRESH-INTERVAL:P3D
CALSCALE:GREGORIAN
BEGIN:VEVENT
DTSTART:20191207T150000Z
DTEND:20191207T230000Z
X-MICROSOFT-CDO-ALLDAYEVENT:FALSE
SUMMARY:Weekend Wonderland in Bethany 2019
DESCRIPTION:Get in the holiday spirit at Weekend Wonderland in Bethany! Enjoy tax-free holiday shopping\, carriage rides\, photos with Santa\, caroling around the tree\, and more.\n\n\n\nElf On the Shelf Scavenger Hunt-\n\nBack by popular demand is the Elf on the Shelf Scavenger Hunt! Search for the Elf throughout businesses in Bethany for a chance to win great prizes donated by participating business! All ages are welcome to participate - prizes will be given for adults and children each week. Winners will be announced at 5 pm every Saturday on the Bandstand. If you complete the 2 bonus squares\, you will be given an extra card to increase your chances on winning the prize! All completed bingo cards should be turned in at Bethany Fine Arts Gallery to be entered into the prize drawing. All participating businesses will have bingo cards and extra are available at Bethany Fine Arts Gallery.\n\n\n\nMeet Santa!\n\nDon't miss seeing Santa each Saturday!\n\n \n\n	\n		\n			Date\n			Location\n			Time\n		\n		\n			December 7\n			Bethany Beach Town Hall\n			1:00 p.m. - 3:00 p.m.\n		\n		\n			December 14\n			Ropewalk Bethany\n			10:30 a.m. - 12:30 p.m.\n		\n		\n			December 14\n			Bethany Blues\n			1:00 p.m. - 2:00 p.m.\n		\n		\n			December 21\n			Bethany Beach Books\n			1:00 p.m. - 2:00 p.m.\n		\n	\n\n\n\n\n\nSaturday\, December 7\n\n10:00 a.m.                        $5 Children's Activities at Bethany Beach Books                                         \n\n\n\n10:00 a.m. - 4:00 p.m.    Elf on the Shelf Scavenger Hunt at Participating Businesses.\n\n\n\n10:00 a.m. - 5:00 p.m.   Coat Drive & Canned Food Collection for Neighbors in Need by Christmas Tree\n\n\n\n11:00 a.m. - 2:00 p.m.      $5 Cookie Decorating at Bethany Blues\n\n\n\n1:00 p.m. - 3:00 p.m.        Complimentary Hot Chocolate at 99 Sea Level\n\n\n\n1:00 - 3:00 p.m.             Holiday Happenings at Bethany Beach Town Hall\n\n\n	Holiday face painting\n	Photos with Santa\, complete with hot cocoa and cookies\n	Letters to Santa station\n\n 1:00 p.m. - 4:00 p.m.      Winter Wagon Rides at Bethany Beach Town Hall\n\n\n\n3:00 p.m. - 5:00 p.m.       Live Radio Broadcast\n\n\n\n5:00 p.m.                         Lighting of the Tree & Caroling at the Bandstand\n\n\n\n5:00 p.m.                           Elf on the Shelf Prize Drawing at the Bandstand\n\n\n\nSaturday\, December 14\n\n10:00 a.m.                         $5 Children's Activities at Bethany Beach Books\n\n\n\n10:00 a.m. - 4:00 p.m.       Elf on the Shelf Scavenger Hunt at Participating Businesses. Click here for a bingo card.\n\n\n\n10:00 a.m. - 5:00 p.m.       Coat Drive & Canned Food Collection for Neighbors in Need by Christmas Tree\n\n\n\n10:30 a.m. - 12:30 p.m.     Meet Santa at Ropewalk Bethany\n\n\n\n11:00 a.m. - 2:00 p.m.       $5 Cookie Decorating at Bethany Blues\n\n\n\n1:00 p.m. - 2:00 p.m.         Meet Santa at Bethany Blues\n\n\n\n1:00 p.m. - 3:00 p.m.         Complimentary Hot Chocolate at 99 Sea Level\n\n\n\n1:00 p.m. - 4:00 p.m.         Winter Wagon Rides near Bethany Beach Town Hall. Winter Wagon\n\n                                          Rides are cancelled for 12/14 due to inclement weather\n\n\n\n5:00 p.m.                           Elf on the Shelf Prize Drawing at the Bandstand\n\n\n\nSaturday\, December 21\n\n10:00 a.m.                         $5 Children's Activities at Bethany Beach Books\n\n\n\n10:00 a.m. - 4:00 p.m.       Elf on the Shelf Scavenger Hunt at Participating Businesses. Click here for a bingo card.\n\n\n\n10:00 a.m. - 5:00 p.m.       Coat Drive & Canned Food Collection for Neighbors in Need by Christmas Tree\n\n\n\n11:00 a.m. - 1:00 p.m.       Live Radio Broadcast\n\n\n\n11:00 a.m. - 2:00 p.m.       $5 Cookie Decorating at Bethany Blues\n\n\n\n1:00 p.m. - 2:00 p.m.         Meet Santa at Bethany Beach Books\n\n\n\n1:00 p.m. - 3:00 p.m.         Complimentary Hot Chocolate at 99 Sea Level\n\n\n\n1:00 p.m. - 4:00 p.m.         Winter Wagon Rides near Bethany Beach Town Hall\n\n\n\n5:00 p.m.                            Elf on the Shelf Prize Drawing at the Bandstand\n\n \n\nWeekend Wonderland Specials & Promotions\n\nOceanova Spa is offering an additional $20 gift certificate with the purchase of $100 in gift certificates. The $20 gift certificate is good toward services only.\n\n\n	Hours of Operation - 9:00 a.m. - 5:00 p.m.\n\n50% off all clothing at Rhodes 5 & 10\n\n\n	Hours of Operation - 9:00 a.m. - 5:00 p.m.\n\nUp to 50% off sale on select items at Fish Tales\n\n\n	Hours of Operation - 10:00 a.m. - 5:00 p.m.\n\nShoe Sale at Bethany Trading Company: Buy one get one free\n\n\n	Hours of Operation - 10:00 a.m. - 6:00 p.m.\n\nHoliday Open House at Su Casa's Bethany store on Saturday\, December 14 from 10:00 a.m. - 8:00 p.m.\n\n\n	Hours of Operation - 10:00 a.m. - 8:00 p.m.\n\nCocktails & Cocoa at Su Casa's Ocean View store on Saturday\, December 14 from 3:00 p.m. - 6:00 p.m.\n\n\n	Hours of Operation - 10:00 a.m. - 6:00 p.m.\n\nBanks Wines & Spirits\n\n\n	December 14\n\n	\n		Wine Tasting from 12:00 p.m. - 3:00 p.m.\n		Halo Honey Shots from 3:00 p.m. - 6:00 p.m.\n	\n	\n	December 21\n	\n		Wine Tasting from 12:00 p.m. - 6:00 p.m.\n		Scotch Tasting from 3:00 p.m. - 6:00 p.m.\n	\n	\n\n \n\n \np.p1 {margin: 0.0px 0.0px 0.0px 0.0px\; text-align: center\; font: 11.0px Raleway}
X-ALT-DESC;FMTTYPE=text/html:<span style="font-size: 14px\;"><span style="font-family: arial\;"><span style="color: rgb(29\, 33\, 41)\; white-space: pre-wrap\;">Get in the holiday spirit at Weekend Wonderland in Bethany! Enjoy tax-free holiday shopping\, carriage rides\, photos with Santa\, caroling around the tree\, and more.</span><br />\n<br />\n<span style="font-size: 16px\;"><span style="color: rgb(0\, 0\, 255)\;"><span style="white-space: pre-wrap\;"><strong>Elf On the Shelf Scavenger Hunt-</strong></span></span></span><br />\n<span style="color: rgb(29\, 33\, 41)\; white-space: pre-wrap\;">Back by popular demand is the Elf on the Shelf Scavenger Hunt! Search for the Elf throughout businesses in Bethany for a chance to win great prizes donated by participating business! All ages are welcome to participate - prizes will be given for adults and children each week.&nbsp\;Winners will be announced at 5 pm every Saturday on the Bandstand. If you complete the 2 bonus squares\, you will be given an extra card to increase your chances on winning the prize! All completed bingo cards should be turned in at Bethany Fine Arts Gallery to be entered into the prize drawing.&nbsp\;All participating businesses will have bingo cards and extra are available at Bethany Fine Arts Gallery.</span><br />\n<br />\n<span style="font-size: 16px\;"><strong><span style="color: rgb(0\, 0\, 205)\;">Meet Santa!</span></strong></span><br />\nDon&#39\;t miss seeing Santa each Saturday!</span></span><br />\n&nbsp\;\n<table border="1" cellpadding="1" cellspacing="1" style="width: 500px\;">\n	<tbody>\n		<tr>\n			<td><span style="font-size: 14px\;"><span style="font-family: arial\;"><strong>Date</strong></span></span></td>\n			<td><span style="font-size: 14px\;"><span style="font-family: arial\;"><strong>Location</strong></span></span></td>\n			<td><span style="font-size: 14px\;"><span style="font-family: arial\;"><strong>Time</strong></span></span></td>\n		</tr>\n		<tr>\n			<td><span style="font-size: 14px\;"><span style="font-family: arial\;">December 7</span></span></td>\n			<td><span style="font-size: 14px\;"><span style="font-family: arial\;">Bethany Beach Town Hall</span></span></td>\n			<td><span style="font-size: 14px\;"><span style="font-family: arial\;">1:00 p.m. - 3:00 p.m.</span></span></td>\n		</tr>\n		<tr>\n			<td><span style="font-size: 14px\;"><span style="font-family: arial\;">December 14</span></span></td>\n			<td><span style="font-size: 14px\;"><span style="font-family: arial\;">Ropewalk Bethany</span></span></td>\n			<td><span style="font-size: 14px\;"><span style="font-family: arial\;">10:30 a.m. - 12:30 p.m.</span></span></td>\n		</tr>\n		<tr>\n			<td><span style="font-size: 14px\;"><span style="font-family: arial\;">December 14</span></span></td>\n			<td><span style="font-size: 14px\;"><span style="font-family: arial\;">Bethany Blues</span></span></td>\n			<td><span style="font-size: 14px\;"><span style="font-family: arial\;">1:00 p.m. - 2:00 p.m.</span></span></td>\n		</tr>\n		<tr>\n			<td><span style="font-size: 14px\;"><span style="font-family: arial\;">December 21</span></span></td>\n			<td><span style="font-size: 14px\;"><span style="font-family: arial\;">Bethany Beach Books</span></span></td>\n			<td><span style="font-size: 14px\;"><span style="font-family: arial\;">1:00 p.m. - 2:00 p.m.</span></span></td>\n		</tr>\n	</tbody>\n</table>\n<br />\n<br />\n<span style="font-size: 14px\;"><span style="font-family: arial\;"><span style="font-size: 16px\;"><strong><span style="color: rgb(0\, 0\, 255)\;"><span style="white-space: pre-wrap\;">Saturday\, December 7</span></span></strong></span><br />\n<span style="white-space: pre-wrap\;">10:00 a.m.</span>&nbsp\;&nbsp\;&nbsp\;&nbsp\;&nbsp\;&nbsp\;&nbsp\;&nbsp\;&nbsp\;&nbsp\;&nbsp\;&nbsp\;&nbsp\;&nbsp\;&nbsp\;&nbsp\;&nbsp\;&nbsp\;&nbsp\;&nbsp\;&nbsp\;&nbsp\;&nbsp\; $5 Children&#39\;s Activities at Bethany Beach Books&nbsp\;&nbsp\;&nbsp\;&nbsp\;&nbsp\;&nbsp\;&nbsp\;&nbsp\;&nbsp\;&nbsp\;&nbsp\;&nbsp\;&nbsp\;&nbsp\;&nbsp\;&nbsp\;&nbsp\;&nbsp\;&nbsp\;&nbsp\;&nbsp\;&nbsp\;&nbsp\;&nbsp\;&nbsp\;&nbsp\;&nbsp\;&nbsp\;&nbsp\;&nbsp\;&nbsp\;&nbsp\;&nbsp\;&nbsp\;&nbsp\;&nbsp\;&nbsp\;&nbsp\;&nbsp\;&nbsp\;&nbsp\;<br />\n<br />\n<span style="white-space: pre-wrap\;">10:00 a.m. - 4:00 p.m.&nbsp\;</span>&nbsp\;&nbsp\;&nbsp\;Elf on the Shelf Scavenger Hunt at Participating Businesses.<br />\n<br />\n<span style="white-space: pre-wrap\;">10:00 a.m. - 5:00 p.m.</span>&nbsp\;&nbsp\;&nbsp\;Coat Drive&nbsp\;&amp\; Canned&nbsp\;Food Collection for Neighbors in Need by&nbsp\;Christmas Tree<br />\n<br />\n11:00 a.m. - 2:00 p.m.&nbsp\;&nbsp\;&nbsp\;&nbsp\;&nbsp\;&nbsp\;$5 Cookie Decorating at Bethany Blues<br />\n<br />\n1:00 p.m. - 3:00&nbsp\;p.m.&nbsp\;&nbsp\;&nbsp\;&nbsp\;&nbsp\;&nbsp\;&nbsp\;&nbsp\;Complimentary Hot Chocolate at&nbsp\;99 Sea Level<br />\n<br />\n<span style="white-space: pre-wrap\;">1:00 - 3:00 p.m.</span>&nbsp\;&nbsp\;&nbsp\;&nbsp\;&nbsp\;&nbsp\;&nbsp\;&nbsp\;&nbsp\;&nbsp\;&nbsp\;&nbsp\;&nbsp\;Holiday Happenings at Bethany Beach Town Hall</span></span>\n\n<ul style="margin-left: 160px\;">\n	<li align="LEFT"><span style="font-size: 14px\;"><span style="font-family: arial\;">Holiday face painting</span></span></li>\n	<li align="LEFT"><span style="font-size: 14px\;"><span style="font-family: arial\;">Photos with Santa\, complete with hot cocoa and cookies</span></span></li>\n	<li align="LEFT"><span style="font-size: 14px\;"><span style="font-family: arial\;">Letters to Santa station</span></span></li>\n</ul>\n<span style="font-size: 14px\;"><span style="font-family: arial\;"> 1:00&nbsp\;p.m. - 4:00 p.m.&nbsp\;&nbsp\;&nbsp\;&nbsp\;&nbsp\;&nbsp\;Winter Wagon Rides at Bethany Beach Town Hall<br />\n<br />\n3:00 p.m. - 5:00 p.m.&nbsp\;&nbsp\;&nbsp\;&nbsp\;&nbsp\;&nbsp\; Live Radio Broadcast<br />\n<br />\n5:00 p.m.&nbsp\;&nbsp\;&nbsp\;&nbsp\;&nbsp\;&nbsp\;&nbsp\;&nbsp\;&nbsp\;&nbsp\;&nbsp\;&nbsp\;&nbsp\;&nbsp\;&nbsp\;&nbsp\;&nbsp\;&nbsp\;&nbsp\;&nbsp\;&nbsp\;&nbsp\;&nbsp\;&nbsp\;&nbsp\;Lighting of the Tree &amp\; Caroling at the Bandstand<br />\n<br />\n5:00 p.m.&nbsp\;&nbsp\;&nbsp\;&nbsp\;&nbsp\;&nbsp\;&nbsp\;&nbsp\;&nbsp\;&nbsp\;&nbsp\;&nbsp\;&nbsp\;&nbsp\;&nbsp\;&nbsp\;&nbsp\;&nbsp\;&nbsp\;&nbsp\;&nbsp\;&nbsp\;&nbsp\;&nbsp\;&nbsp\;&nbsp\;&nbsp\;Elf on the Shelf Prize Drawing at the Bandstand<br />\n<br />\n<span style="font-size: 16px\;"><span style="color: rgb(0\, 0\, 205)\;"><strong>Saturday\, December 14</strong></span></span><br />\n10:00 a.m.&nbsp\;&nbsp\;&nbsp\;&nbsp\;&nbsp\;&nbsp\;&nbsp\;&nbsp\;&nbsp\;&nbsp\;&nbsp\;&nbsp\;&nbsp\;&nbsp\;&nbsp\;&nbsp\;&nbsp\;&nbsp\;&nbsp\;&nbsp\;&nbsp\;&nbsp\;&nbsp\;&nbsp\; $5 Children&#39\;s Activities at Bethany Beach Books<br />\n<br />\n10:00 a.m. - 4:00 p.m.&nbsp\;&nbsp\;&nbsp\;&nbsp\;&nbsp\;&nbsp\; Elf on the Shelf Scavenger Hunt at Participating Businesses. <a href="https://chambermaster.blob.core.windows.net/userfiles/UserFiles/chambers/2126/File/Community_Events/Weekend_Wonderland/ElfOnTheShelf_2019_Dec14_Dec21FINAL.pdf" target="_blank"><strong>Click here </strong></a></span></span><span style="font-size: 14px\;"><span style="font-family: arial\;"><a href="https://chambermaster.blob.core.windows.net/userfiles/UserFiles/chambers/2126/File/Community_Events/Weekend_Wonderland/ElfOnTheShelf_2019_Dec14_Dec21FINAL.pdf" target="_blank"><strong>for a bingo card</strong></a>.<br />\n<br />\n10:00 a.m. - 5:00 p.m.&nbsp\;&nbsp\;&nbsp\;&nbsp\;&nbsp\;&nbsp\;&nbsp\;Coat Drive&nbsp\;&amp\; Canned&nbsp\;Food Collection for Neighbors in Need by&nbsp\;Christmas Tree<br />\n<br />\n10:30 a.m. - 12:30 p.m.&nbsp\;&nbsp\;&nbsp\;&nbsp\; Meet Santa at Ropewalk Bethany<br />\n<br />\n11:00 a.m. - 2:00 p.m.&nbsp\;&nbsp\;&nbsp\;&nbsp\;&nbsp\;&nbsp\;&nbsp\;$5 Cookie Decorating at Bethany Blues<br />\n<br />\n1:00 p.m. - 2:00 p.m.&nbsp\;&nbsp\;&nbsp\;&nbsp\;&nbsp\;&nbsp\;&nbsp\;&nbsp\; Meet Santa at Bethany Blues<br />\n<br />\n1:00 p.m. - 3:00 p.m.&nbsp\;&nbsp\;&nbsp\;&nbsp\;&nbsp\;&nbsp\;&nbsp\;&nbsp\; Complimentary Hot Chocolate at&nbsp\;99 Sea Level<br />\n<br />\n1:00 p.m. - 4:00 p.m.&nbsp\;&nbsp\;&nbsp\;</span></span>&nbsp\;&nbsp\;&nbsp\;&nbsp\;&nbsp\;&nbsp\;<span style="font-size: 14px\;"><span style="font-family: arial\;">Winter Wagon Rides near Bethany Beach Town Hall. <strong><span style="color: rgb(255\, 0\, 0)\;">Winter Wagon<br />\n&nbsp\;&nbsp\;&nbsp\;&nbsp\;&nbsp\;&nbsp\;&nbsp\;&nbsp\;&nbsp\;&nbsp\;&nbsp\;&nbsp\;&nbsp\;&nbsp\;&nbsp\;&nbsp\;&nbsp\;&nbsp\;&nbsp\;&nbsp\;&nbsp\;&nbsp\;&nbsp\;&nbsp\;&nbsp\;&nbsp\;&nbsp\;&nbsp\;&nbsp\;&nbsp\;&nbsp\;&nbsp\;&nbsp\;&nbsp\;&nbsp\;&nbsp\;&nbsp\;&nbsp\;&nbsp\;&nbsp\;&nbsp\;&nbsp\;Rides are cancelled for 12/14 due to inclement weather</span></strong><br />\n<br />\n5:00 p.m.&nbsp\;&nbsp\;&nbsp\;&nbsp\;&nbsp\;&nbsp\;&nbsp\;&nbsp\;&nbsp\;&nbsp\;&nbsp\;&nbsp\;&nbsp\;&nbsp\;&nbsp\;&nbsp\;&nbsp\;&nbsp\;&nbsp\;&nbsp\;&nbsp\;&nbsp\;&nbsp\;&nbsp\;&nbsp\;&nbsp\;&nbsp\;Elf on the Shelf Prize Drawing at the Bandstand<br />\n<br />\n<span style="font-size: 16px\;"><strong><span style="color: rgb(0\, 0\, 205)\;">Saturday\, December 21</span></strong></span><br />\n10:00 a.m.&nbsp\;&nbsp\;&nbsp\;&nbsp\;&nbsp\;&nbsp\;&nbsp\;&nbsp\;&nbsp\;&nbsp\;&nbsp\;&nbsp\;&nbsp\;&nbsp\;&nbsp\;&nbsp\;&nbsp\;&nbsp\;&nbsp\;&nbsp\;&nbsp\;&nbsp\;&nbsp\;&nbsp\; $5 Children&#39\;s Activities at Bethany Beach Books<br />\n<br />\n10:00 a.m. - 4:00 p.m.&nbsp\;&nbsp\;&nbsp\;&nbsp\;&nbsp\;&nbsp\; Elf on the Shelf Scavenger Hunt at Participating Businesses. <strong><a href="https://chambermaster.blob.core.windows.net/userfiles/UserFiles/chambers/2126/File/Community_Events/Weekend_Wonderland/ElfOnTheShelf_2019_Dec14_Dec21_FINAL.pdf" target="_blank"><font color="#0066cc">Click here for a bingo card</font></a></strong>.<br />\n<br />\n10:00 a.m. - 5:00 p.m.&nbsp\;&nbsp\;&nbsp\;&nbsp\;&nbsp\;&nbsp\;&nbsp\;Coat Drive&nbsp\;&amp\; Canned&nbsp\;Food Collection for Neighbors in Need by&nbsp\;Christmas Tree<br />\n<br />\n11:00 a.m. - 1:00 p.m.&nbsp\;&nbsp\;&nbsp\;&nbsp\;&nbsp\;&nbsp\; Live Radio Broadcast<br />\n<br />\n11:00 a.m. - 2:00 p.m.&nbsp\;&nbsp\;&nbsp\;&nbsp\;&nbsp\;&nbsp\;&nbsp\;$5 Cookie Decorating at Bethany Blues<br />\n<br />\n1:00 p.m. - 2:00 p.m.&nbsp\;&nbsp\;&nbsp\;&nbsp\;&nbsp\;&nbsp\;&nbsp\;&nbsp\; Meet Santa at Bethany Beach Books<br />\n<br />\n1:00 p.m. - 3:00 p.m.&nbsp\;&nbsp\;&nbsp\;&nbsp\;&nbsp\;&nbsp\;&nbsp\;&nbsp\; Complimentary Hot Chocolate at&nbsp\;99 Sea Level<br />\n<br />\n1:00 p.m. - 4:00 p.m.&nbsp\;&nbsp\;&nbsp\;&nbsp\;&nbsp\;&nbsp\;&nbsp\;&nbsp\; Winter Wagon Rides near Bethany Beach Town Hall<br />\n<br />\n5:00 p.m.&nbsp\;&nbsp\;&nbsp\;&nbsp\;&nbsp\;&nbsp\;&nbsp\;&nbsp\;&nbsp\;&nbsp\;&nbsp\;&nbsp\;&nbsp\;&nbsp\;&nbsp\;&nbsp\;&nbsp\;&nbsp\;&nbsp\;&nbsp\;&nbsp\;&nbsp\;&nbsp\;&nbsp\;&nbsp\;&nbsp\;&nbsp\; Elf on the Shelf Prize Drawing at the Bandstand<br />\n&nbsp\;</span></span><br />\n<span style="font-family: arial\;"><span style="color: rgb(0\, 0\, 205)\;"><strong>Weekend Wonderland Specials &amp\; Promotions</strong></span></span><br />\n<span style="font-size: 14px\;"><span style="font-family: arial\;">Oceanova Spa is offering an additional $20 gift certificate with the purchase of $100 in gift certificates. The $20 gift certificate is good toward services only.</span></span>\n\n<ul>\n	<li><span style="font-size: 14px\;"><span style="font-family: arial\;">Hours of Operation - 9:00 a.m. - 5:00 p.m.</span></span></li>\n</ul>\n<span style="font-size: 14px\;"><span style="font-family: arial\;">50% off all clothing at Rhodes 5 &amp\; 10</span></span>\n\n<ul>\n	<li><span style="font-size: 14px\;"><span style="font-family: arial\;">Hours of Operation -&nbsp\;9:00 a.m. - 5:00 p.m.</span></span></li>\n</ul>\n<span style="font-size: 14px\;"><span style="font-family: arial\;">Up to 50% off sale on select items at Fish Tales</span></span>\n\n<ul>\n	<li><span style="font-size: 14px\;"><span style="font-family: arial\;">Hours of Operation -&nbsp\;10:00 a.m. - 5:00 p.m.</span></span></li>\n</ul>\n<span style="font-size: 14px\;"><span style="font-family: arial\;">Shoe Sale at Bethany Trading Company: Buy one get one free</span></span>\n\n<ul>\n	<li><span style="font-size: 14px\;"><span style="font-family: arial\;">Hours of Operation - 10:00 a.m. - 6:00 p.m.</span></span></li>\n</ul>\n<span style="font-size: 14px\;"><span style="font-family: arial\;">Holiday Open House at Su Casa&#39\;s Bethany store on Saturday\, December 14&nbsp\;from 10:00 a.m. - 8:00 p.m.</span></span>\n\n<ul>\n	<li><span style="font-size: 14px\;"><span style="font-family: arial\;">Hours of Operation - 10:00 a.m. - 8:00 p.m.</span></span></li>\n</ul>\n<span style="font-size: 14px\;"><span style="font-family: arial\;">Cocktails &amp\; Cocoa at Su Casa&#39\;s Ocean View store on Saturday\, December 14&nbsp\;from 3:00 p.m. - 6:00 p.m.</span></span>\n\n<ul>\n	<li><span style="font-size: 14px\;"><span style="font-family: arial\;">Hours of Operation - 10:00 a.m. - 6:00 p.m.</span></span></li>\n</ul>\n<span style="font-size: 14px\;"><span style="font-family: arial\;">Banks Wines &amp\; Spirits</span></span>\n\n<ul>\n	<li><span style="font-size: 14px\;"><span style="font-family: arial\;">December 14</span></span>\n\n	<ul>\n		<li><span style="font-size: 14px\;"><span style="font-family: arial\;">Wine Tasting from 12:00 p.m. - 3:00 p.m.</span></span></li>\n		<li><span style="font-size: 14px\;"><span style="font-family: arial\;">Halo Honey Shots from 3:00 p.m. - 6:00 p.m.</span></span></li>\n	</ul>\n	</li>\n	<li><span style="font-size: 14px\;"><span style="font-family: arial\;">December 21</span></span>\n	<ul>\n		<li><span style="font-size: 14px\;"><span style="font-family: arial\;">Wine Tasting from 12:00 p.m. - 6:00 p.m.</span></span></li>\n		<li><span style="font-size: 14px\;"><span style="font-family: arial\;">Scotch Tasting from 3:00 p.m. - 6:00 p.m.</span></span></li>\n	</ul>\n	</li>\n</ul>\n<span style="font-size: 14px\;"><span style="font-family: arial\;">&nbsp\;</span></span>\n\n<p class="p1" style="text-align: left\;">&nbsp\;</p>\n<style type="text/css">p.p1 {margin: 0.0px 0.0px 0.0px 0.0px\; text-align: center\; font: 11.0px Raleway}\n</style>\n
LOCATION:Bethany Beach\, DE
UID:e.2126.17259
SEQUENCE:3
DTSTAMP:20260426T034423Z
URL:http://business.thequietresorts.com/events/details/weekend-wonderland-in-bethany-2019-17259
END:VEVENT

END:VCALENDAR
