BEGIN:VCALENDAR
VERSION:2.0
PRODID:-//ChamberMaster//Event Calendar 2.0//EN
METHOD:PUBLISH
X-PUBLISHED-TTL:P3D
REFRESH-INTERVAL:P3D
CALSCALE:GREGORIAN
BEGIN:VEVENT
DTSTART:20191214T150000Z
DTEND:20191214T230000Z
X-MICROSOFT-CDO-ALLDAYEVENT:FALSE
SUMMARY:Weekend Wonderland in Bethany 2019
DESCRIPTION:Get in the holiday spirit at Weekend Wonderland in Bethany! Enjoy tax-free holiday shopping\, carriage rides\, photos with Santa\, caroling around the tree\, and more.\n\n\n\nBack by popular demand is the Elf on the Shelf Scavenger Hunt! Search for the Elf on the Shelf throughout businesses in Bethany for a chance to win great prizes donated by participating business! All ages are welcome to participate - prizes will be given for adults and children each week. \n\n\n\nAdditional Activities & Specials\n\n	Oceanova Spa is offering an additional $20 gift certificate with the purchase of $100 in gift certificates. The $20 gift certificate is good toward services only.\n	\n		Hours of Operation - 9:00 a.m. - 5:00 p.m.\n	\n	\n	50% off all clothing at Rhodes 5 & 10\n	\n		Hours of Operation - 9:00 a.m. - 5:00 p.m.\n	\n	\n	Children's Activities at Bethany Beach Books: Every Saturday at 10:00 a.m.\n	\n		Hours of Operation - 9:00 a.m. - 6:00 p.m.\n	\n	\n	Up to 50% off sale on select items at Fish Tales\n	\n		Hours of Operation - 10:00 a.m. - 5:00 p.m.\n	\n	\n	Shoe Sale at Bethany Trading Company: Buy one get one free\n	\n		Hours of Operation - 10:00 a.m. - 6:00 p.m.\n	\n	\n	Ugly Sweater Cookie Decorating at Bethany Blues from 11:00 a.m. - 2:00 p.m.\n	\n		Hours of Operation - 11:00 a.m. - 11:00 p.m.\n	\n	\n	Complimentary Hot Chocolate at 99 Sea Level from 1:00 p.m. - 3:00 p.m.\n	\n		Hours of Operation - 11:00 a.m. - 11:00 p.m.\n	\n	\n\n \n\n\n\nBethany Businesses! Sign up to be a part of the festivities here. \n\n \n \np.p1 {margin: 0.0px 0.0px 0.0px 0.0px\; text-align: center\; font: 11.0px Raleway}
X-ALT-DESC;FMTTYPE=text/html:<span style="font-size: 14px\;"><span style="font-family: arial\;"><span style="color: rgb(29\, 33\, 41)\; white-space: pre-wrap\;">Get in the holiday spirit at Weekend Wonderland in Bethany! Enjoy tax-free holiday shopping\, carriage rides\, photos with Santa\, caroling around the tree\, and more.<br />\n<br />\nBack by popular demand is the Elf on the Shelf Scavenger Hunt! Search for the Elf on the Shelf throughout businesses in Bethany for a chance to win great prizes donated by participating business! All ages are welcome to participate - prizes will be given for adults and children each week.&nbsp\;</span></span></span><br />\n<br />\nAdditional&nbsp\;Activities &amp\; Specials\n<ul>\n	<li>Oceanova Spa is offering an additional $20 gift certificate with the purchase of $100 in gift certificates. The $20 gift certificate is good toward services only.\n	<ul>\n		<li>Hours of Operation - 9:00 a.m. - 5:00 p.m.</li>\n	</ul>\n	</li>\n	<li>50% off all clothing at Rhodes 5 &amp\; 10\n	<ul>\n		<li>Hours of Operation -&nbsp\;9:00 a.m. - 5:00 p.m.</li>\n	</ul>\n	</li>\n	<li>Children&#39\;s Activities at Bethany Beach Books: Every Saturday at 10:00 a.m.\n	<ul>\n		<li>Hours of Operation - 9:00 a.m. - 6:00 p.m.</li>\n	</ul>\n	</li>\n	<li>Up to 50% off sale on select items at Fish Tales\n	<ul>\n		<li>Hours of Operation -&nbsp\;10:00 a.m. - 5:00 p.m.</li>\n	</ul>\n	</li>\n	<li>Shoe Sale at Bethany Trading Company: Buy one get one free\n	<ul>\n		<li>Hours of Operation - 10:00 a.m. - 6:00 p.m.</li>\n	</ul>\n	</li>\n	<li>Ugly Sweater Cookie Decorating at Bethany Blues from 11:00 a.m. - 2:00 p.m.\n	<ul>\n		<li>Hours of Operation - 11:00 a.m. - 11:00 p.m.</li>\n	</ul>\n	</li>\n	<li>Complimentary Hot Chocolate at 99 Sea Level from 1:00 p.m. - 3:00 p.m.\n	<ul>\n		<li>Hours of Operation - 11:00 a.m. - 11:00 p.m.</li>\n	</ul>\n	</li>\n</ul>\n&nbsp\;\n\n<hr /><br />\n<span style="font-size: 14px\;"><span style="font-family: arial\;"><strong>Bethany Businesses!</strong> Sign up to be a part of the festivities <a href="http://business.bethany-fenwick.org/events/details/weekend-wonderland-in-bethany-business-opportunities-2019-18406">here</a>.&nbsp\;</span></span><br />\n&nbsp\;\n<p class="p1" style="text-align: left\;">&nbsp\;</p>\n<style type="text/css">p.p1 {margin: 0.0px 0.0px 0.0px 0.0px\; text-align: center\; font: 11.0px Raleway}\n</style>\n
LOCATION:Bethany Beach\, DE
UID:e.2126.17260
SEQUENCE:3
DTSTAMP:20260426T034509Z
URL:http://business.thequietresorts.com/events/details/weekend-wonderland-in-bethany-2019-12-14-2019-17260
END:VEVENT

END:VCALENDAR
