BEGIN:VCALENDAR
VERSION:2.0
PRODID:-//ChamberMaster//Event Calendar 2.0//EN
METHOD:PUBLISH
X-PUBLISHED-TTL:P3D
REFRESH-INTERVAL:P3D
CALSCALE:GREGORIAN
BEGIN:VEVENT
DTSTART:20240513T190000Z
DTEND:20240513T203000Z
X-MICROSOFT-CDO-ALLDAYEVENT:FALSE
SUMMARY:Wax Shack Grand Opening Ribbon Cutting
DESCRIPTION:Join the Bethany-Fenwick Area Chamber of Commerce on Monday\, May 13th\, for a ribbon cutting celebrating the grand opening of Wax Shack!  The event will start at 3:00PM with the ribbon to be cut at 4:00PM.  Swing by at the end of your day for refreshments\, to meet the Wax Shack team\, and learn more about this great new business in Millville.\n\n\n\nWax Shack takes pride in offering professional hair removal services for men and women.  They're committed to providing the highest quality treatments and ensuring a comfortable and enjoyable experience for their guests!
X-ALT-DESC;FMTTYPE=text/html:Join the Bethany-Fenwick Area Chamber of Commerce on Monday\, May 13th\, for a ribbon cutting celebrating the grand opening of Wax Shack!&nbsp\; The event will start at 3:00PM with the ribbon to be cut at 4:00PM.&nbsp\; Swing by at the end of your day for refreshments\, to meet the Wax Shack team\, and learn more about this great new business in Millville.<br />\n<br />\nWax Shack takes pride in offering professional hair removal services for men and women.&nbsp\; They&#39\;re committed to providing the highest quality treatments and ensuring a comfortable and enjoyable experience for their guests!
LOCATION:35715 Atlantic Ave. Millville\, DE 19967 Next to Perucci's & Morning Buns Bake Shop
UID:e.2126.29233
SEQUENCE:3
DTSTAMP:20260420T042146Z
URL:http://business.thequietresorts.com/events/details/wax-shack-grand-opening-ribbon-cutting-29233
END:VEVENT

END:VCALENDAR
