BEGIN:VCALENDAR
VERSION:2.0
PRODID:-//ChamberMaster//Event Calendar 2.0//EN
METHOD:PUBLISH
X-PUBLISHED-TTL:P3D
REFRESH-INTERVAL:P3D
CALSCALE:GREGORIAN
BEGIN:VEVENT
DTSTART:20230506T140000Z
DTEND:20230506T190000Z
X-MICROSOFT-CDO-ALLDAYEVENT:FALSE
SUMMARY:Water Family Fest and Native Plant Sale
DESCRIPTION:Discover more about environmental efforts in Delaware and the importance of native plants! This family-friendly festival features outdoor recreation and educational opportunities\, nature-based organizations\, food trucks\, and a native plant sale.\n\n \n\nThe event will highlight the work DNREC\, CIB\, and other organizations do to improve Delaware's wetlands\, water\, and recreational shorelines. Local nurseries will be there to answer questions on native species and will have a variety of native plants for sale to the public.\n\n \n\nGuest speakers\, kids activities\, giveaways\, yummy grub and drinks\, and live music - stay tuned for more!\n\nFREE and open to all ages. Event is rain or shine.
X-ALT-DESC;FMTTYPE=text/html:<div>Discover more about environmental efforts in Delaware and the importance of native plants! This family-friendly festival features outdoor recreation and educational opportunities\, nature-based organizations\, food trucks\, and a native plant sale.</div>\n\n<div>&nbsp\;</div>\n\n<div>The event will highlight the work DNREC\, CIB\, and other organizations do to improve Delaware&rsquo\;s wetlands\, water\, and recreational shorelines. Local nurseries will be there to answer questions on native species and will have a variety of native plants for sale to the public.</div>\n\n<div>&nbsp\;</div>\n\n<div>Guest speakers\, kids activities\, giveaways\, yummy grub and drinks\, and live music - stay tuned for more!</div>\n\n<div>FREE and open to all ages. Event is rain or shine.</div>\n
LOCATION:James Farm Ecological Preserve 30048 Cedar Neck Rd\, Ocean View\, DE 19970
UID:e.2126.25208
SEQUENCE:3
DTSTAMP:20260421T024458Z
URL:http://business.thequietresorts.com/events/details/water-family-fest-and-native-plant-sale-25208
END:VEVENT

END:VCALENDAR
