BEGIN:VCALENDAR
VERSION:2.0
PRODID:-//ChamberMaster//Event Calendar 2.0//EN
METHOD:PUBLISH
X-PUBLISHED-TTL:P3D
REFRESH-INTERVAL:P3D
CALSCALE:GREGORIAN
BEGIN:VEVENT
DTSTART:20200420T140000Z
DTEND:20200426T200000Z
X-MICROSOFT-CDO-ALLDAYEVENT:FALSE
SUMMARY:Ward World Championship Education Conference
DESCRIPTION:Create award-winning carvings with World Champion and professional carvers. A full menu of one\, two\, three and four day classes are offered in conjunction with the Ward World Championship by such artists Rich Smoker\, Ross Smoker and more. Space is limited and registration in advance is required.
X-ALT-DESC;FMTTYPE=text/html:<span style="font-family: arial\;"><span style="font-size: 14px\;">Create award-winning carvings with World Champion and professional carvers. A full menu of one\, two\, three and four day classes are offered in conjunction with the Ward World Championship by such artists Rich Smoker\, Ross Smoker and more. Space is limited and registration in advance is required.</span></span>
LOCATION:The Roland E. Powell Convention Center 4001 Coastal Highway Ocean City\, MD 21842
UID:e.2126.18417
SEQUENCE:3
DTSTAMP:20260425T212415Z
URL:http://business.thequietresorts.com/events/details/ward-world-championship-education-conference-18417
END:VEVENT

END:VCALENDAR
