BEGIN:VCALENDAR
VERSION:2.0
PRODID:-//ChamberMaster//Event Calendar 2.0//EN
METHOD:PUBLISH
X-PUBLISHED-TTL:P3D
REFRESH-INTERVAL:P3D
CALSCALE:GREGORIAN
BEGIN:VEVENT
DTSTART;VALUE=DATE:20210609
DTEND;VALUE=DATE:20210610
TRANSP:TRANSPARENT
X-MICROSOFT-CDO-ALLDAYEVENT:TRUE
SUMMARY:Ward Museum Photo Festival - Call For Entries
DESCRIPTION:Online entries for the 12 unique competition categories will be accepted June 4   July 2 for either of the two festival divisions: Photographer and Youth Photographer. Categories for this year once again include photographs of nature (wild animals\, plants\, scenic landscapes)\, humans in nature\, man-made structures\, etc.\, as well as urban landscapes\, portrait photography\, and more. This will be our second year hosting the competition virtually. Contestants in the Art in Nature Photo Festival can enter photographs in any of the competition's 12 categories\, ranging from traditional black and white photography to drone and aerial photography. These will be judged by local and internationally known photographers\, including noted director and photographer Eric J. Smith\, nature photographer Jacqueline Deely\, and more. More information can be found on our website here\, including competition rules and links to the competition entry website: https://www.wardmuseum.org/learn-explore/program-calendar/art-nature-photo-festival/
X-ALT-DESC;FMTTYPE=text/html:<span style="color: rgb(51\, 51\, 51)\; font-family: sans-serif\, Arial\, Verdana\, &quot\;Trebuchet MS&quot\;\; font-size: 13px\; background-color: rgb(255\, 255\, 255)\;">Online entries for the 12 unique competition categories will be accepted June 4 &ndash\; July 2 for either of the two festival divisions: Photographer and Youth Photographer. Categories for this year once again include photographs of nature (wild animals\, plants\, scenic landscapes)\, humans in nature\, man-made structures\, etc.\, as well as urban landscapes\, portrait photography\, and more. This will be our second year hosting the competition virtually. Contestants in the Art in Nature Photo Festival can enter photographs in any of the competition&rsquo\;s 12 categories\, ranging from traditional black and white photography to drone and aerial photography. These will be judged by local and internationally known photographers\, including noted director and photographer Eric J. Smith\, nature photographer Jacqueline Deely\, and more. More information can be found on our website here\, including competition rules and links to the competition entry website:&nbsp\;</span><a href="https://www.wardmuseum.org/learn-explore/program-calendar/art-nature-photo-festival/" style="color: rgb(7\, 130\, 193)\; font-family: sans-serif\, Arial\, Verdana\, &quot\;Trebuchet MS&quot\;\; font-size: 13px\;">https://www.wardmuseum.org/learn-explore/program-calendar/art-nature-photo-festival/</a>
LOCATION:
UID:e.2126.22409
SEQUENCE:3
DTSTAMP:20260424T194627Z
URL:http://business.thequietresorts.com/events/details/ward-museum-photo-festival-call-for-entries-06-09-2021-22409
END:VEVENT

END:VCALENDAR
