BEGIN:VCALENDAR
VERSION:2.0
PRODID:-//ChamberMaster//Event Calendar 2.0//EN
METHOD:PUBLISH
X-PUBLISHED-TTL:P3D
REFRESH-INTERVAL:P3D
CALSCALE:GREGORIAN
BEGIN:VEVENT
DTSTART:20211030T140000Z
DTEND:20211030T170000Z
X-MICROSOFT-CDO-ALLDAYEVENT:FALSE
SUMMARY:Wags\, Witches and Warlocks
DESCRIPTION:The Annual Halloween Festival of Bethany Beach\, Wags\, Witches & Warlocks features a parade\, costume contest\, crafts\, pet adoptions and fun throughout downtown Bethany Beach!
X-ALT-DESC;FMTTYPE=text/html:The Annual Halloween Festival of Bethany Beach\, Wags\, Witches &amp\; Warlocks features a parade\, costume contest\, crafts\, pet adoptions and fun throughout downtown Bethany Beach!
LOCATION:Bandstand\, Downtown Bethany Beach
UID:e.2126.22029
SEQUENCE:3
DTSTAMP:20260424T133240Z
URL:http://business.thequietresorts.com/events/details/wags-witches-and-warlocks-22029
END:VEVENT

END:VCALENDAR
