BEGIN:VCALENDAR
VERSION:2.0
PRODID:-//ChamberMaster//Event Calendar 2.0//EN
METHOD:PUBLISH
X-PUBLISHED-TTL:P3D
REFRESH-INTERVAL:P3D
CALSCALE:GREGORIAN
BEGIN:VEVENT
DTSTART:20240515T200000Z
DTEND:20240515T213000Z
X-MICROSOFT-CDO-ALLDAYEVENT:FALSE
SUMMARY:Vista Rooftop 1 Year Anniversary Party & Ribbon Cutting
DESCRIPTION:Join the Bethany-Fenwick Area Chamber of Commerce on Wednesday\, May 15th\, for a ribbon cutting celebrating Vista Rooftop's 1 Year Anniversary!  The celebration will start at 4:00PM with the ribbon to be cut at 4:30PM. \n\n\n\nVista Rooftop has Happy Hour daily from 3:00 - 6:00PM and will be featuring live music by Taylor Knox and Brian Thomas from 4:00 - 7:00PM\, as well as complimentary appetizers for the Chamber event\, 4:00 - 5:30PM. \n\n\n\nCome by Vista at the end of your workday to see the beautifully renovated space\, check out the beach and bay views from the deck\, taste their delicious food\, and help them celebrate their 1st Anniversary!
X-ALT-DESC;FMTTYPE=text/html:Join the Bethany-Fenwick Area Chamber of Commerce on Wednesday\, May 15th\, for a ribbon cutting celebrating Vista Rooftop&#39\;s 1 Year Anniversary!&nbsp\; The celebration will start at 4:00PM with the ribbon to be cut at 4:30PM.&nbsp\;<br />\n<br />\nVista Rooftop has Happy Hour daily from 3:00 - 6:00PM and will be featuring live music by Taylor Knox and Brian Thomas from 4:00 - 7:00PM\, as well as complimentary appetizers for the Chamber event\, 4:00 - 5:30PM.&nbsp\;<br />\n<br />\nCome by Vista at the end of your workday to see the beautifully renovated space\, check out the beach and bay views from the deck\, taste their delicious food\, and help them celebrate their 1st Anniversary!
LOCATION:Vista Rooftop 13801 Coastal Hwy. Ocean City\, MD\, 21842
UID:e.2126.28598
SEQUENCE:3
DTSTAMP:20260420T042950Z
URL:http://business.thequietresorts.com/events/details/vista-rooftop-1-year-anniversary-party-ribbon-cutting-28598
END:VEVENT

END:VCALENDAR
