BEGIN:VCALENDAR
VERSION:2.0
PRODID:-//ChamberMaster//Event Calendar 2.0//EN
METHOD:PUBLISH
X-PUBLISHED-TTL:P3D
REFRESH-INTERVAL:P3D
CALSCALE:GREGORIAN
BEGIN:VEVENT
DTSTART:20200513T230000Z
DTEND:20200514T003000Z
X-MICROSOFT-CDO-ALLDAYEVENT:FALSE
SUMMARY:Virtual Wine Tasting
DESCRIPTION:Join Salted Vines Vineyard & Winery at 7:00 pm on Wednesday\, May 13 for a virtual wine tasting event. All are welcome to participate in this live tasting of two wines. Willia from the Millville Pet Stop and Christine from The Real McCoy Group to talk wine\, pets\, real estate and treats. You can join us on Facebook Live.\n\n\n\nPurchase Traminette or Fredonia and get a complementary treat to pair with it. Grab your bottles before the event by calling (302) 436-1500 during our current business hours (3:00 pm - 6:00 pm). Orders can be picked up in-store or curbside starting Saturday\, May 9.
X-ALT-DESC;FMTTYPE=text/html:<span style="font-family: arial\;"><span style="font-size: 14px\;">Join Salted Vines Vineyard &amp\; Winery at 7:00 pm on Wednesday\, May 13 for a virtual wine tasting event. All are welcome to participate in this live tasting of two wines. Willia from the Millville Pet Stop and Christine from The Real McCoy Group to talk wine\, pets\, real estate and treats. You can join us on <a href="https://www.facebook.com/saltedvines/" target="_blank">Facebook Live</a>.<br />\n<br />\nPurchase Traminette or Fredonia and get a complementary treat to pair with it. Grab your bottles before the event by calling (302) 436-1500 during our current business hours (3:00 pm - 6:00 pm). Orders can be picked up in-store or curbside starting Saturday\, May 9.</span></span><br />\n<br />\n&nbsp\;
LOCATION:Salted Vines Facebook Page
UID:e.2126.21522
SEQUENCE:3
DTSTAMP:20260425T194252Z
URL:http://business.thequietresorts.com/events/details/virtual-wine-tasting-21522
END:VEVENT

END:VCALENDAR
