BEGIN:VCALENDAR
VERSION:2.0
PRODID:-//ChamberMaster//Event Calendar 2.0//EN
METHOD:PUBLISH
X-PUBLISHED-TTL:P3D
REFRESH-INTERVAL:P3D
CALSCALE:GREGORIAN
BEGIN:VEVENT
DTSTART;VALUE=DATE:20201001
DTEND;VALUE=DATE:20201016
TRANSP:TRANSPARENT
X-MICROSOFT-CDO-ALLDAYEVENT:TRUE
SUMMARY:Virtual Sand Castle Home Tour 2020
DESCRIPTION:For the past 15 years\, the Sand Castle Home Tour has featured some of the greater Ocean City area's most spectacular single-family residences\, townhomes\, and beach retreats. As a self-guided event\, participants personally toured these premier properties at their own pace   and the experience became an annual "must-see-and-do" for locals and visitors alike.\n\n\n\nBenefiting the Art League of Ocean City\, the Sand Castle Home Tour is our largest fundraiser of the year\, which fuels our mission to promote artistic expression and appreciation for the creative arts in our community. It also provided the funding to build and sustain our home: The Ocean City Center for the Arts.\n\n\n\nThis year's tour is a little different than its predecessors. Participants can still expect to see some of the area's most amazing residences   but they will do so virtually from the comforts of their own homes. Now a two-week even from October 1-15\, tour-goers will enjoy state-of-the-art 3D tours of each residence\; cinematic videos of the homes\; engaging interviews with homeowners\, builders\, and interior designers\; galleries of professional photography\; dedicated sponsor zones\, and much more.\n\n\n\nJoin us for this amazing new virtual experience for the 16th annual Sand Castle Home Tour. Stay updated on information by liking our Facebook page: https://www.facebook.com/sandcastlehometour/
X-ALT-DESC;FMTTYPE=text/html:<span style="font-size: 14px\;"><span style="font-family: arial\;"><span style="color: black\;">For the past 15 years\, the Sand Castle Home Tour has featured some of the greater Ocean City area&rsquo\;s most spectacular single-family residences\, townhomes\, and beach retreats. As a self-guided event\, participants personally toured these premier properties at their own pace &ndash\; and the experience became an annual &ldquo\;must-see-and-do&rdquo\; for locals and visitors alike.</span><br />\n<br />\n<span style="color: black\;">Benefiting the Art League of Ocean City\, the Sand Castle Home Tour is our largest fundraiser of the year\, which fuels our mission to promote artistic expression and appreciation for the creative arts in our community. It also provided the funding to build and sustain our home: The Ocean City Center for the Arts.</span><br />\n<br />\n<span style="color: black\;">This year&rsquo\;s tour is a little different than its predecessors. Participants can still expect to see some of the area&rsquo\;s most amazing residences &ndash\; but they will do so virtually from the comforts of their own homes. Now a two-week even from October 1-15\, tour-goers will enjoy state-of-the-art 3D tours of each residence\; cinematic videos of the homes\; engaging interviews with homeowners\, builders\, and interior designers\; galleries of professional photography\; dedicated sponsor zones\, and much more.</span><br />\n<br />\n<span style="color: black\;">Join us for this amazing new virtual experience for the 16<sup>th</sup>&nbsp\;annual Sand Castle Home Tour. Stay updated on information by liking our Facebook page:&nbsp\;</span><a href="https://www.facebook.com/sandcastlehometour/">https://www.facebook.com/sandcastlehometour/</a></span></span>
LOCATION:Online
UID:e.2126.21718
SEQUENCE:3
DTSTAMP:20260425T113840Z
URL:http://business.thequietresorts.com/events/details/virtual-sand-castle-home-tour-2020-21718
END:VEVENT

END:VCALENDAR
