BEGIN:VCALENDAR
VERSION:2.0
PRODID:-//ChamberMaster//Event Calendar 2.0//EN
METHOD:PUBLISH
X-PUBLISHED-TTL:P3D
REFRESH-INTERVAL:P3D
CALSCALE:GREGORIAN
BEGIN:VEVENT
DTSTART:20200527T213000Z
DTEND:20200527T223000Z
X-MICROSOFT-CDO-ALLDAYEVENT:FALSE
SUMMARY:Virtual Business After Hours: The Freeman Stage May 2020
DESCRIPTION:Join the Bethany-Fenwick Area Chamber of Commerce and our host\, The Freeman Stage\, for our first virtual Business After Hours. Catch up with members of the Chamber to discuss topics such as how Memorial Day Weekend went and phase one of Governor Carney's plan to reopen Delaware on June 1.\n\n\n\nThis meeting will be on Zoom and will run from 5:30 pm - 6:30 pm on Wednesday\, May 27. Registration is required in order to receive the invitation to the meeting. For updates on Business After Hours\, please follow us on Facebook at Bethany-Fenwick Area Chamber of Commerce. In addition to our networking\, The Freeman Stage has organized a virtual concert featuring Destination Unknown. So grab a drink\, enjoy some music and connect. We look forward to seeing you there!
X-ALT-DESC;FMTTYPE=text/html:<span style="font-size: 14px\;"><span style="font-family: arial\;"><span>Join the Bethany-Fenwick Area Chamber of Commerce and our host\, The Freeman Stage\, for our first virtual Business After Hours. Catch up with members of the Chamber to discuss topics such as how Memorial Day Weekend&nbsp\;went and phase one of Governor Carney's plan to reopen Delaware on June 1.<br>\n<br>\nThis meeting will be on Zoom and will run from 5:30 pm - 6:30 pm on Wednesday\, May 27. <strong>Registration is required</strong> in order to receive the invitation to the meeting. For updates on Business After Hours\, please follow us on Facebook at Bethany-Fenwick Area Chamber of Commerce.&nbsp\;In addition to our networking\, The Freeman Stage has organized a virtual concert featuring <a href="https://www.facebook.com/Destinationunknownde/" target="_blank">Destination Unknown</a>. So grab a drink\, enjoy some music and connect. We look forward to seeing you there!</span></span></span><br>\n<br>\n&nbsp\;
LOCATION:From the comfort of your couch
UID:e.2126.20062
SEQUENCE:3
DTSTAMP:20260425T194308Z
URL:http://business.thequietresorts.com/events/details/virtual-business-after-hours-the-freeman-stage-may-2020-20062
END:VEVENT

END:VCALENDAR
