BEGIN:VCALENDAR
VERSION:2.0
PRODID:-//ChamberMaster//Event Calendar 2.0//EN
METHOD:PUBLISH
X-PUBLISHED-TTL:P3D
REFRESH-INTERVAL:P3D
CALSCALE:GREGORIAN
BEGIN:VEVENT
DTSTART:20260428T203000Z
DTEND:20260428T213000Z
X-MICROSOFT-CDO-ALLDAYEVENT:FALSE
SUMMARY:Vinyasa Yoga at South Coastal Library
DESCRIPTION:Looking for something a little more challenging than gentle flow? Do you want to increase flexibility and reduce stress? Join Sarah Schaber\, RYT-500 certified yoga instructor\, for a free 1-hour vinyasa yoga class at the South Coastal Library in Bethany Beach. In this class\, you move through a flowing practice that connects the postures with the breath\, and will be moderately paced with some more challenging poses than gentle flow. This can help to create energy\, build strength\, and promote flexibility and circulation throughout the body.  You will be moving through various positioning (i.e. lying on your back and abdomen\, seated\, hands and knees\, and standing.) In order to ensure all participants' safety\, it is recommended you are able to move and reposition independently.\n\n\n\nAges 18+ please.    \n\nYou will end the class with a deep relaxation to help release stress and tension and to integrate all the benefits of your yoga practice to leave you feeling calm and focused.\n\nReminders:\n\n\n	Please bring a yoga mat or towel from home. The instructor also recommends two 4-inch-deep foam yoga blocks. \n\n	 \n	Advanced registration is encouraged as it guarantees your spot in the class. A few walk-in spots available in each class for those that prefer to just drop-in (first come\, first serve as space permits). To register go online\, visit the library\, or call at 302-858-5518. \n\n	 \n	If you are new to yoga or are looking for a more gentle and slow practice\, please consider Gentle Flow with Sarah instead. Held on most 3rd and 4th Mondays of the month at 10:15 am.  While vinyasa is more challenging than gentle flow\, all skill levels are still welcome\, and chairs are always available at the library. \n\n\n\nThis library program is designed to supplement library materials and services that promote community-based health literacy and to foster fitness and healthy habits within individuals.
X-ALT-DESC;FMTTYPE=text/html:<p><span style="font-family:arial"><span style="font-size:16px"><strong>Looking for something a little more challenging than gentle flow? Do you want to increase flexibility and reduce stress?&nbsp\;</strong>Join&nbsp\;Sarah Schaber\, RYT-500 certified&nbsp\;yoga&nbsp\;instructor\, for a free 1-hour vinyasa yoga class at the South Coastal Library in Bethany Beach. In this class\, you&nbsp\;move&nbsp\;through a flowing practice that connects the postures with the breath\, and will be moderately paced with some more challenging poses than gentle flow. This can help to create energy\, build strength\, and promote flexibility and circulation throughout the body.&nbsp\; You&nbsp\;will be moving through various positioning&nbsp\;<em>(i.e. lying on your back&nbsp\;and abdomen\, seated\, hands and knees\, and standing.)</em>&nbsp\;In order to ensure all participants&#39\; safety\, it is recommended you are&nbsp\;able to move and reposition independently.<br />\n<br />\nAges 18+ please.&ensp\;&ensp\;&ensp\;&ensp\;</span></span></p>\n\n<p><span style="font-family:arial"><span style="font-size:16px">You will end the class with a&nbsp\;deep relaxation to help release stress and tension and to integrate all the benefits of your yoga practice to leave you feeling calm and focused.</span></span></p>\n\n<p><span style="font-family:arial"><span style="font-size:16px"><strong><u>Reminders:</u></strong></span></span></p>\n\n<ul>\n	<li><span style="font-family:arial"><span style="font-size:16px">Please bring a&nbsp\;yoga&nbsp\;mat or towel from home. The instructor also recommends two 4-inch-deep foam&nbsp\;yoga&nbsp\;blocks.&nbsp\;</span></span><br />\n	&nbsp\;</li>\n	<li><span style="font-family:arial"><span style="font-size:16px">Advanced registration is encouraged as it guarantees your spot in the class. A&nbsp\;few walk-in spots available in each class&nbsp\;for those that prefer to just drop-in (first come\, first serve as space permits). To register go online\, visit the library\,&nbsp\;or call at 302-858-5518.&nbsp\;</span></span><br />\n	&nbsp\;</li>\n	<li><span style="font-family:arial"><span style="font-size:16px"><strong>If you are new to yoga or are looking for a more gentle and slow practice\, please consider Gentle Flow with&nbsp\;Sarah&nbsp\;instead.&nbsp\;Held on&nbsp\;most 3rd&nbsp\;and 4th&nbsp\;Mondays of the month at 10:15 am.&nbsp\;&nbsp\;</strong>While vinyasa is more challenging than gentle flow\, all skill levels are still welcome\, and chairs are always available at the library.&nbsp\;</span></span></li>\n</ul>\n\n<hr />\n<p><span style="font-family:arial"><em><span style="font-size:16px">This library program is designed to supplement library materials and services that promote community-based health literacy and to foster fitness and healthy habits within individuals.</span>&nbsp\;</em></span></p>\n
LOCATION:
UID:e.2126.43673
SEQUENCE:3
DTSTAMP:20260425T103340Z
URL:http://business.thequietresorts.com/events/details/vinyasa-yoga-at-south-coastal-library-43673
END:VEVENT

END:VCALENDAR
