BEGIN:VCALENDAR
VERSION:2.0
PRODID:-//ChamberMaster//Event Calendar 2.0//EN
METHOD:PUBLISH
X-PUBLISHED-TTL:P3D
REFRESH-INTERVAL:P3D
CALSCALE:GREGORIAN
BEGIN:VEVENT
DTSTART;VALUE=DATE:20231012
DTEND;VALUE=DATE:20231101
TRANSP:TRANSPARENT
X-MICROSOFT-CDO-ALLDAYEVENT:TRUE
SUMMARY:VFW POST 7234 HOSTING YOUTH ESSAY CONTEST
DESCRIPTION:The Veterans of Foreign Wars (VFW) is dedicated to promoting patriotism and investing in our future generation. If you are a democracy-loving high school student interested in a $35\,000 college scholarship or a patriotic middle school student interested in winning $5\,000\, these scholarships may be for you.\n\n \n\nVoice of Democracy:\n\nEstablished in 1947\, our Voice of Democracy audio-essay program provides students\, in grades 9-12 who are enrolled in a public\, private or parochial school or home study program\, with the unique opportunity to express themselves in regards to a democratic and patriotic-themed recorded essay.  VFW Post 7234 selects three winners\, with the first place winner advancing to the state level\,  and awards $500\, $250 and $150 respectively.   The winner\, advancing to the VFW Department (state) competition wins at least a scholarship of $1\,000.\n\nThe national first-place winner receives a $35\,000 scholarship paid directly to the recipient's American university\, college\, or vocational/technical school.  The 2023-24 theme is: "What Are the Greatest Attributes of Our Democracy?"\n\nPatriot's Pen:\n\nStudents in grades 6-8\, enrolled in public\, private or parochial school or home study program\, enter the VFW's Patriot's Pen youth essay contest for a chance to win their share of state and national awards. VFW Post 7234 awards $500\, $250 or $100 to 1st\, 2nd\, 3rd place winners respectively.  Each first place state winner receives a minimum of $500\, and the national first place winner wins $5\,000!  The essay contest encourages young minds to examine America's history\, along with their own experiences in modern American society\, by drafting a 300- to 400-word essay\, expressing their views based on a patriotic theme. The 2023-24 theme is: \n\n"How Are You Inspired by America?"\n\nHow To Enter:\n\nVFW 7234 serves the lower Sussex County area.  The contest is open to all local students\, and children/grandchildren of Post members.  Rules and eligibility requirements are available from VFW 7234\, email vfwpost7234@gmail.com or (302) 539-9981\,  or download forms from vfw.org/YouthScholarships. \n\n\n\nEssays must be submitted by midnight October 31\, 2023. Completed entries may be delivered or mailed to VFW Post 7234\, attn: Patriot's Pen/Voice of Democracy\, 29265 Marshy Hope Way\, Ocean View\, DE 19970.
X-ALT-DESC;FMTTYPE=text/html:<p class="Default" style="margin: 0in 0in 10pt\; line-height: normal\; font-size: 12pt\; font-family: &quot\;Helvetica Neue&quot\;\; color: rgb(0\, 0\, 0)\; border: none\;"><span style="font-family: &quot\;Times New Roman&quot\;\, serif\; color: rgb(51\, 51\, 51)\;">The Veterans of Foreign Wars (V</span><span lang="DE" style="font-family: &quot\;Times New Roman&quot\;\, serif\; color: rgb(51\, 51\, 51)\;">FW</span><span style="font-family: &quot\;Times New Roman&quot\;\, serif\; color: rgb(51\, 51\, 51)\;">) is dedicated to promoting patriotism and investing in our future generation. If you are a democracy-loving high school student interested in a $35\,000 college scholarship or a patriotic middle school student interested in winning&nbsp\;$5\,000\, these scholarships may be for you.<o:p></o:p></span><br />\n&nbsp\;</p>\n\n<p class="Default" style="margin: 0in 0in 16pt\; line-height: normal\; font-size: 12pt\; font-family: &quot\;Helvetica Neue&quot\;\; color: rgb(0\, 0\, 0)\; border: none\;"><b><span style="font-size: 16pt\; font-family: Helvetica\; color: rgb(51\, 51\, 153)\; background-image: initial\; background-position: initial\; background-size: initial\; background-repeat: initial\; background-attachment: initial\; background-origin: initial\; background-clip: initial\;">Voice of Democracy:</span></b><span style="font-size: 16pt\; font-family: Helvetica\; background-image: initial\; background-position: initial\; background-size: initial\; background-repeat: initial\; background-attachment: initial\; background-origin: initial\; background-clip: initial\;"><o:p></o:p></span></p>\n\n<p class="Default" style="margin: 0in 0in 10pt\; line-height: normal\; font-size: 12pt\; font-family: &quot\;Helvetica Neue&quot\;\; color: rgb(0\, 0\, 0)\; border: none\;"><span style="font-family: &quot\;Times New Roman&quot\;\, serif\; color: rgb(51\, 51\, 51)\;">Established in 1947\, our Voice of Democracy audio-essay program provides students\, in </span><span lang="PT" style="font-family: &quot\;Times New Roman&quot\;\, serif\; color: rgb(51\, 51\, 51)\;">grades </span><span style="font-family: &quot\;Times New Roman&quot\;\, serif\; color: rgb(51\, 51\, 51)\;">9-12 who are enrolled in a public\, private or parochial school or home study program\, with the unique opportunity to express themselves in regards to a democratic and patriotic-themed recorded essay.&nbsp\; VFW Post 7234 selects three winners\, with the first place winner advancing to the state level\,&nbsp\; and awards $500\, $250 and $150 respectively.&nbsp\;&nbsp\; The winner\, advancing to the VFW Department (state) competition wins at least a scholarship of $1\,000.</span><span style="font-family: &quot\;Times New Roman&quot\;\, serif\; color: rgb(51\, 51\, 51)\;"><o:p></o:p></span></p>\n\n<p class="Default" style="margin: 0in 0in 10pt\; line-height: normal\; font-size: 12pt\; font-family: &quot\;Helvetica Neue&quot\;\; color: rgb(0\, 0\, 0)\; border: none\;"><span style="font-family: &quot\;Times New Roman&quot\;\, serif\; color: rgb(51\, 51\, 51)\;">The national first-place winner receives a $35\,000 scholarship paid directly to the recipient</span><span dir="RTL" lang="AR-SA" style="font-family: &quot\;Arial Unicode MS&quot\;\, sans-serif\; color: rgb(51\, 51\, 51)\;">&rsquo\;</span><span style="font-family: &quot\;Times New Roman&quot\;\, serif\; color: rgb(51\, 51\, 51)\;">s American university\, college\, or vocational/technical school.&nbsp\; The 2023-24 theme is:&nbsp\;&quot\;What Are the Greatest Attributes of Our Democracy?&quot\;</span><span style="font-family: &quot\;Times New Roman&quot\;\, serif\; color: rgb(51\, 51\, 51)\;"><o:p></o:p></span></p>\n\n<p class="Default" style="margin: 0in 0in 16pt\; line-height: normal\; font-size: 12pt\; font-family: &quot\;Helvetica Neue&quot\;\; color: rgb(0\, 0\, 0)\; border: none\;"><b><span style="font-size: 16pt\; font-family: Helvetica\; color: rgb(51\, 51\, 153)\; background-image: initial\; background-position: initial\; background-size: initial\; background-repeat: initial\; background-attachment: initial\; background-origin: initial\; background-clip: initial\;">Patriot&rsquo\;s Pen:</span></b><b><span style="font-size: 16pt\; font-family: Helvetica\; background-image: initial\; background-position: initial\; background-size: initial\; background-repeat: initial\; background-attachment: initial\; background-origin: initial\; background-clip: initial\;"><o:p></o:p></span></b></p>\n\n<p class="Default" style="margin: 0in 0in 10pt\; line-height: normal\; font-size: 12pt\; font-family: &quot\;Helvetica Neue&quot\;\; color: rgb(0\, 0\, 0)\; border: none\;"><span style="font-family: &quot\;Times New Roman&quot\;\, serif\;">S</span><span style="font-family: &quot\;Times New Roman&quot\;\, serif\; color: rgb(51\, 51\, 51)\;">tudents in grades 6-8\, enrolled in public\, private or parochial school or home study program\, enter the VFW</span><span dir="RTL" lang="AR-SA" style="font-family: &quot\;Arial Unicode MS&quot\;\, sans-serif\; color: rgb(51\, 51\, 51)\;">&rsquo\;</span><span style="font-family: &quot\;Times New Roman&quot\;\, serif\; color: rgb(51\, 51\, 51)\;">s Patriot</span><span dir="RTL" lang="AR-SA" style="font-family: &quot\;Arial Unicode MS&quot\;\, sans-serif\; color: rgb(51\, 51\, 51)\;">&rsquo\;</span><span style="font-family: &quot\;Times New Roman&quot\;\, serif\; color: rgb(51\, 51\, 51)\;">s Pen youth essay contest for a chance to win their share of state and national awards. VFW Post 7234 awards $500\, $250 or $100 to 1st\, 2nd\, 3rd place winners respectively.&nbsp\; Each first place state winner receives a minimum of $500\, and the national first place winner wins $5\,000!&nbsp\; The essay contest encourages young minds to examine America</span><span dir="RTL" lang="AR-SA" style="font-family: &quot\;Arial Unicode MS&quot\;\, sans-serif\; color: rgb(51\, 51\, 51)\;">&rsquo\;</span><span style="font-family: &quot\;Times New Roman&quot\;\, serif\; color: rgb(51\, 51\, 51)\;">s history\, along with their own experiences in modern American society\, by drafting a 300- to 400-word essay\, expressing their views based on a patriotic theme. The 2023-24 theme is:&nbsp\;<br />\n&quot\;How Are You Inspired by America?&quot\;</span><span style="font-family: &quot\;Times New Roman&quot\;\, serif\; color: rgb(51\, 51\, 51)\;"><o:p></o:p></span></p>\n\n<p class="Default" style="margin: 0in 0in 16pt\; line-height: normal\; font-size: 12pt\; font-family: &quot\;Helvetica Neue&quot\;\; color: rgb(0\, 0\, 0)\; border: none\;"><b><span style="font-size: 16pt\; font-family: Helvetica\; color: rgb(51\, 51\, 153)\; background-image: initial\; background-position: initial\; background-size: initial\; background-repeat: initial\; background-attachment: initial\; background-origin: initial\; background-clip: initial\;">How To Enter:</span></b><b><span style="font-size: 16pt\; font-family: Helvetica\; color: rgb(51\, 51\, 153)\; background-image: initial\; background-position: initial\; background-size: initial\; background-repeat: initial\; background-attachment: initial\; background-origin: initial\; background-clip: initial\;"><o:p></o:p></span></b></p>\n\n<p class="Default" style="margin: 0in 0in 10pt\; line-height: normal\; font-size: 12pt\; font-family: &quot\;Helvetica Neue&quot\;\; color: rgb(0\, 0\, 0)\; border: none\;"><span style="font-family: &quot\;Times New Roman&quot\;\, serif\; color: rgb(51\, 51\, 51)\;">VFW 7234 serves the lower Sussex County area.&nbsp\; The contest is open to all local students\, and children/grandchildren of Post members.&nbsp\; Rules and eligibility requirements are available from VFW 7234\, email vfwpost7234@gmail.com or (302) 539-9981\,&nbsp\; or download forms from </span><span class="Hyperlink0" style="color: rgb(33\, 111\, 219)\;"><span style="color: black\;"><a href="https://l.facebook.com/l.php?u=http%3A%2F%2Fvfw.org%2FYouthScholarships%3Ffbclid%3DIwAR203oRt__HVN3hGgY6fqOH8B0JD2SIYsRK3m7u9eG5LC15MgSkZQGoO15w&amp\;h=AT1ZhNc1UQrBI-hWs72Znc1oZzwf_nFJ4j043AYdSXnb_7s6o0XqZAFiAZvKMglYS2rLCAD7plFgzYX23raJS4QAkoB1zhlqu_0zgsIj1hOOhDFpSX_2Yc_pSj_ZcL74oPrKwcDScT6rRCji3TtwP6k&amp\;__tn__=-UK-R%5D-R&amp\;c%5B0%5D=AT0xChuRhkonNfBr5-gv6Sbf5Z4swP4LnxkKvEMOPUHINdKZQSX54gyA4RWFHP1C43YA2rQwwXTpCU3RXg-7NTPAi5pCnSLIc-VB2ohKG3CoFnIGXbrAUSxNJKbJfQqSRkxeuAVWX5fv_DaRCM8NhCcoGbvKDMUvaIXUofbpI2Tq0IGFDdg6IAG0RBLS4Bh3jKfgyNe4EgUJcliP1tF4Xm9w&amp\;c%5B1%5D=AT0xChuRhkonNfBr5-gv6Sbf5Z4swP4LnxkKvEMOPUHINdKZQSX54gyA4RWFHP1C43YA2rQwwXTpCU3RXg-7NTPAi5pCnSLIc-VB2ohKG3CoFnIGXbrAUSxNJKbJfQqSRkxeuAVWX5fv_DaRCM8NhCcoGbvKDMUvaIXUofbpI2Tq0IGFDdg6IAG0RBLS4Bh3jKfgyNe4EgUJcliP1tF4Xm9w"><span style="font-family: &quot\;Times New Roman&quot\;\, serif\; color: black\; text-decoration-line: none\;">vfw.org/YouthScholarships</span></a></span></span><span style="font-family: &quot\;Times New Roman&quot\;\, serif\; color: rgb(51\, 51\, 51)\;">.&nbsp\;<br />\n<br />\nEssays must be submitted by midnight October 31\, 2023.&nbsp\;Completed entries may be delivered or mailed to VFW Post 7234\, attn: Patriot&rsquo\;s Pen/Voice of Democracy\, 29265 Marshy Hope Way\, Ocean View\, DE 19970.</span><o:p></o:p></p>\n\n<p class="Default" style="margin: 0in 0in 10pt\; line-height: normal\; font-size: 12pt\; font-family: &quot\;Helvetica Neue&quot\;\; color: rgb(0\, 0\, 0)\; border: none\;"><span style="font-family: &quot\;Times New Roman&quot\;\, serif\; color: rgb(51\, 51\, 51)\;"><o:p></o:p></span></p>\n
LOCATION:
UID:e.2126.27021
SEQUENCE:3
DTSTAMP:20260420T183012Z
URL:http://business.thequietresorts.com/events/details/vfw-post-7234-hosting-youth-essay-contest-27021
END:VEVENT

END:VCALENDAR
