BEGIN:VCALENDAR
VERSION:2.0
PRODID:-//ChamberMaster//Event Calendar 2.0//EN
METHOD:PUBLISH
X-PUBLISHED-TTL:P3D
REFRESH-INTERVAL:P3D
CALSCALE:GREGORIAN
BEGIN:VEVENT
DTSTART:20221111T140000Z
DTEND:20221111T210000Z
X-MICROSOFT-CDO-ALLDAYEVENT:FALSE
SUMMARY:Veterans Day Celebration and Food Collection for Food Bank of Delaware
DESCRIPTION:Celebrate Veterans Day. Free admission for military veterans (show military ID). Also collecting food for Food Bank of Delaware\, with Free admission to adults with a food donation. Guided tour at 10 a.m. with $10 fee.
X-ALT-DESC;FMTTYPE=text/html:Celebrate Veterans Day. Free admission for military veterans (show military ID). Also collecting food for Food Bank of Delaware\, with Free admission to adults with a food donation. Guided tour at 10 a.m. with $10 fee.
LOCATION:Delaware Botanic Gardens\, 30220 Piney Neck Road\, Dagsboro\, DE 19939.
UID:e.2126.24198
SEQUENCE:3
DTSTAMP:20260421T142733Z
URL:http://business.thequietresorts.com/events/details/veterans-day-celebration-and-food-collection-for-food-bank-of-delaware-24198
END:VEVENT

END:VCALENDAR
