BEGIN:VCALENDAR
VERSION:2.0
PRODID:-//ChamberMaster//Event Calendar 2.0//EN
METHOD:PUBLISH
X-PUBLISHED-TTL:P3D
REFRESH-INTERVAL:P3D
CALSCALE:GREGORIAN
BEGIN:VEVENT
DTSTART:20220804T233000Z
DTEND:20220805T010000Z
X-MICROSOFT-CDO-ALLDAYEVENT:FALSE
SUMMARY:Van Halen Nation
DESCRIPTION:Van Halen Nation (VHN) is the premier '80s tribute to the David Lee Roth era of VH. Each VHN performance is packed full of signature David Lee Roth acrobatics/screams to Eddie Van Halen's ground breaking guitar playing to Michael Anthony and Alex Van Halen's thunderous rhythm section. VHN will transport you back in time when big hair\, Aquanet\, and MTV were a way of life.
X-ALT-DESC;FMTTYPE=text/html:Van Halen Nation (VHN) is the premier &lsquo\;80s tribute to the David Lee Roth era of VH. Each VHN performance is packed full of signature David Lee Roth acrobatics/screams to Eddie Van Halen&rsquo\;s ground breaking guitar playing to Michael Anthony and Alex Van Halen&rsquo\;s thunderous rhythm section. VHN will transport you back in time when big hair\, Aquanet\, and MTV were a way of life.
LOCATION:Bethany Beach Bandstand
UID:e.2126.23839
SEQUENCE:3
DTSTAMP:20260421T190921Z
URL:http://business.thequietresorts.com/events/details/van-halen-nation-23839
END:VEVENT

END:VCALENDAR
