BEGIN:VCALENDAR
VERSION:2.0
PRODID:-//ChamberMaster//Event Calendar 2.0//EN
METHOD:PUBLISH
X-PUBLISHED-TTL:P3D
REFRESH-INTERVAL:P3D
CALSCALE:GREGORIAN
BEGIN:VEVENT
DTSTART:20200214T210000Z
DTEND:20200215T020000Z
X-MICROSOFT-CDO-ALLDAYEVENT:FALSE
SUMMARY:Valentine's Dinner in Authentic Train Car - February 14 & February 15
DESCRIPTION:Enjoy a romantic Valentine's dinner in our Victorian style authentic train car.  \n\n\n\nFriday\, February 14 & \n\nSaturday\, February 15\n\n\n\n4:00pm - 9:00pm both days\n\n\n\nWe are serving a special Valentine's menu.\n\n\nReservations suggested call 302-537-7373 or click on the link to make your reservation online\n\nhttps://www.eventbrite.com/e/valentines-dinner-at-the-salted-rim-in-authentic-train-car-registration-90246063405\n\n\n\nMENU\n\n \n\nAppetizers\n\nFried Oysters with Chili Oil -  8 lightly fried oysters drizzled with a chili infused\n\nolive oil   14.99\n\nShrimp Skewers -  Bacon wrapped jumbo gulf shrimp brushed with house made barbeque sauce and grilled   12.99\n\nOyster Stew Shooters -  Home made oyster stew served in a toasted bread cup   7.99\n\nFried Lobster Tail -  Fresh cold water lobster tail fried golden   13.99\n\nBleu Filet -  Tender filet mignon pan roasted medium rare and sliced thin served on toast points with a creamy bleu cheese sauce and roasted tomato-bacon jam   12.99\n\nLobster Hush Puppies -  Home made hush puppies loaded with lobster meat and fried golden served with drawn butter   12.99\n\n \n\nSoups & Salad\n\nCream of Crab -  House made specialty with jumbo lump crab and old bay   9.99\n\nLobster Bisque -  Fresh Atlantic lobster meat in a smooth and creamy spiced bisque   9.99\n\nFrench Onion Soup -  Classic slow cooked French onion soup served with melted cheese & croutons   7.99\n\nCaesar Salad -  House made dressing\, croutons\, parmesan cheese\, mixed with romaine\n\nhearts   8.99\n\nHarvest Salad -  Mixed baby greens\, roasted butternut squash\, craisins\, beets\, bleu cheese crumbles with house made maple vinaigrette   9.99 \n\nHouse Salad -  Mixed baby greens\, red onion\, tomatoes\, cucumbers & green bell peppers   7.99\n\nChoice of dressings:  Honey Mustard\, Ranch\, Chipotle Ranch\, Balsamic Vinaigrette\, Bleu Cheese\, Maple Vinaigrette\n\n \n\nEntrees\n\nTarragon & Mushroom Filet Mignon -  8 oz Filet Mignon pan roasted to desired temperature then smothered in a mushroom and tarragon pan sauce served with roasted red potatoes and vegetable   26.99\n\nStuffed Lobster Tails -  Fresh north Atlantic lobster tails stuffed with crab imperial and broiled\, served with drawn butter\, roasted red potatoes and vegetable   42.99\n\nChicken Cacio e Pepe  (cheese and pepper pasta) -  Oven roasted chicken breast tossed with fettuccini pasta with a creamy parmesan and black pepper sauce served with garlic toast   18.99\n\nStuffed Pork Chops-  Jumbo bone in pork chop stuffed with apples and bacon finished with a bourbon and bacon cream sauce served with roasted red potatoes and vegetables   20.99\n\nLobster  Stuffed Fish Roulade -  Fresh white fish rolled around house made Lobster Imperial then baked and finished with a citrus reduction served with roasted red potatoes and vegetables   21.99\n\nLobster Mac  & Cheese -  Fresh lobster meat blended into a cream cheese sauce and tossed with cavatappi pasta served with garlic toast   26.99\n\nSurf & Turf -  8oz Filet Mignon paired with succulent bacon wrapped jumbo gulf shrimp topped with house made bourbon barbeque sauce served with roasted red potatoes and vegetable   28.99
X-ALT-DESC;FMTTYPE=text/html:<div style="text-align:center"><span style="font-family:arial"><span style="font-size:14px">Enjoy a romantic Valentine&#39\;s dinner in our Victorian style&nbsp\;authentic train car. &nbsp\;</span></span><br />\n<br />\n<strong>Friday\, February 14 &amp\;&nbsp\;<br />\nSaturday\, February 15</strong><br />\n<br />\n<span style="font-family:arial"><span style="font-size:14px">4:00pm - 9:00pm both days</span></span></div>\n\n<div style="text-align:center"><br />\n<span style="font-family:arial"><span style="font-size:14px">We are serving a special Valentine&#39\;s menu.</span></span></div>\n<br />\n<span style="font-family:arial"><span style="font-size:14px">Reservations suggested call 302-537-7373 or click on the link to make your reservation online</span></span><br />\n<a href="https://www.eventbrite.com/e/valentines-dinner-at-the-salted-rim-in-authentic-train-car-registration-90246063405">https://www.eventbrite.com/e/valentines-dinner-at-the-salted-rim-in-authentic-train-car-registration-90246063405</a>\n\n<div style="text-align:center"><br />\n<em><strong><span style="color:#FF0000"><span style="font-size:26px">MENU</span></span></strong></em><br />\n&nbsp\;</div>\n\n<div style="text-align:center"><strong><span style="font-family:monotype corsiva"><span style="font-size:24.0pt">Appetizers</span></span></strong></div>\n\n<div><strong><span style="font-family:monotype corsiva"><span style="font-size:16.0pt">Fried Oysters with Chili Oil -&nbsp\; </span></span></strong><span style="color:#1C1C1C"><span style="font-family:book extra compressed"><span style="font-size:12.0pt">8 lightly fried oysters drizzled with a chili infused<br />\nolive oil&nbsp\;&nbsp\; 14.99</span></span></span><br />\n<strong><span style="font-family:monotype corsiva"><span style="font-size:17.0pt">Shrimp Skewers</span></span></strong><span style="font-family:monotype corsiva"><span style="font-size:17.0pt"> -&nbsp\; </span></span><span style="color:#1C1C1C"><span style="font-family:book extra compressed"><span style="font-size:12.0pt">Bacon wrapped jumbo gulf shrimp brushed with house made barbeque sauce&nbsp\;</span></span></span><span style="color:#1C1C1C"><span style="font-family:book extra compressed"><span style="font-size:12.0pt">and grilled&nbsp\;&nbsp\; 12.99</span></span></span><br />\n<strong><span style="font-family:monotype corsiva"><span style="font-size:17.0pt">Oyster Stew Shooters -&nbsp\; </span></span></strong><span style="color:#1C1C1C"><span style="font-family:book extra compressed"><span style="font-size:12.0pt">Home made oyster stew served in a toasted bread cup&nbsp\;&nbsp\; 7.99</span></span></span><br />\n<strong><span style="color:#1C1C1C"><span style="font-family:monotype corsiva"><span style="font-size:17.0pt">Fried Lobster Tail -&nbsp\; </span></span></span></strong><span style="color:#1C1C1C"><span style="font-family:book extra compressed"><span style="font-size:12.0pt">Fresh cold water lobster tail fried golden&nbsp\;&nbsp\; 13.99</span></span></span><br />\n<strong><span style="color:#1C1C1C"><span style="font-family:monotype corsiva"><span style="font-size:17.0pt">Bleu Filet -&nbsp\; </span></span></span></strong><span style="color:#1C1C1C"><span style="font-family:book extra compressed"><span style="font-size:12.0pt">Tender filet mignon pan roasted medium rare and sliced thin served on toast points with a creamy bleu cheese sauce and roasted tomato-bacon jam&nbsp\;&nbsp\; 12.99</span></span></span><br />\n<strong><span style="color:#1C1C1C"><span style="font-family:monotype corsiva"><span style="font-size:17.0pt">Lobster Hush Puppies -&nbsp\; </span></span></span></strong><span style="color:#1C1C1C"><span style="font-family:book extra compressed"><span style="font-size:12.0pt">Home made hush puppies loaded with lobster meat and fried golden served </span></span></span><span style="color:#1C1C1C"><span style="font-family:book extra compressed"><span style="font-size:12.0pt">with drawn butter&nbsp\;&nbsp\; 12.99</span></span></span></div>\n\n<div style="text-align:center">&nbsp\;<br />\n<strong><span style="font-family:monotype corsiva"><span style="font-size:24.0pt">Soups &amp\; Salad</span></span></strong></div>\n\n<div><strong><span style="font-family:monotype corsiva"><span style="font-size:17.0pt">Cream of Crab -&nbsp\; </span></span></strong><span style="color:#1C1C1C"><span style="font-family:book extra compressed"><span style="font-size:12.0pt">House made specialty with jumbo lump crab and old bay&nbsp\;&nbsp\; 9.99</span></span></span><br />\n<strong><span style="font-family:monotype corsiva"><span style="font-size:17.0pt">Lobster Bisque</span></span></strong><strong><span style="font-family:monotype corsiva"><span style="font-size:16.0pt"> -&nbsp\; </span></span></strong><span style="color:#1C1C1C"><span style="font-family:book extra compressed"><span style="font-size:12.0pt">Fresh Atlantic lobster meat in a smooth and creamy spiced bisque&nbsp\;&nbsp\; 9.99</span></span></span><br />\n<strong><span style="font-family:monotype corsiva"><span style="font-size:17.0pt">French Onion Soup -&nbsp\; </span></span></strong><span style="color:#1C1C1C"><span style="font-family:book extra compressed"><span style="font-size:12.0pt">Classic slow cooked French onion soup served with melted cheese &amp\; croutons&nbsp\;&nbsp\; 7.99</span></span></span><br />\n<strong><span style="color:#1C1C1C"><span style="font-family:monotype corsiva"><span style="font-size:17.0pt">Caesar Salad -&nbsp\; </span></span></span></strong><span style="color:#1C1C1C"><span style="font-family:book extra compressed"><span style="font-size:12.0pt">House made dressing\, croutons\, parmesan cheese\, mixed with romaine<br />\nhearts&nbsp\;&nbsp\; 8.99</span></span></span><br />\n<strong><span style="color:#1C1C1C"><span style="font-family:monotype corsiva"><span style="font-size:17.0pt">Harvest Salad -&nbsp\; </span></span></span></strong><span style="color:#1C1C1C"><span style="font-family:book extra compressed"><span style="font-size:12.0pt">Mixed baby greens\, roasted butternut squash\, craisins\, beets\, bleu cheese crumbles with house made maple vinaigrette&nbsp\;&nbsp\; 9.99 </span></span></span><br />\n<strong><span style="color:#1C1C1C"><span style="font-family:monotype corsiva"><span style="font-size:17.0pt">House Salad -&nbsp\; </span></span></span></strong><span style="color:#1C1C1C"><span style="font-family:book extra compressed"><span style="font-size:12.0pt">Mixed baby greens\, red onion\, tomatoes\, cucumbers &amp\; green bell peppers&nbsp\;&nbsp\; 7.99</span></span></span></div>\n\n<div style="text-align:center"><span style="color:#1C1C1C"><span style="font-family:book extra compressed"><span style="font-size:9.0pt">Choice of dressings:&nbsp\; Honey Mustard\, Ranch\, Chipotle Ranch\, Balsamic Vinaigrette\, Bleu Cheese\, Maple Vinaigrette</span></span></span><br />\n&nbsp\;<br />\n<strong><span style="font-family:monotype corsiva"><span style="font-size:24.0pt">Entrees</span></span></strong></div>\n\n<div><strong><span style="font-family:monotype corsiva"><span style="font-size:17.0pt">Tarragon &amp\; Mushroom Filet Mignon -&nbsp\; </span></span></strong><span style="color:#1C1C1C"><span style="font-family:book extra compressed"><span style="font-size:12.0pt">8 oz Filet Mignon pan roasted to desired temperature then smothered in a mushroom and tarragon pan sauce served with roasted red potatoes and vegetable&nbsp\;&nbsp\; 26.99</span></span></span><br />\n<strong><span style="font-family:monotype corsiva"><span style="font-size:17.0pt">Stuffed Lobster Tails -&nbsp\; </span></span></strong><span style="color:#1C1C1C"><span style="font-family:book extra compressed"><span style="font-size:12.0pt">Fresh north Atlantic lobster tails stuffed with crab imperial and broiled\, served with drawn butter\, roasted red potatoes and vegetable&nbsp\;&nbsp\; 42.99</span></span></span><br />\n<strong><span style="font-family:monotype corsiva"><span style="font-size:17.0pt">Chicken Cacio e Pepe </span></span></strong><span style="color:#1C1C1C"><span style="font-family:book extra compressed">&nbsp\;(</span></span><span style="color:#1C1C1C"><span style="font-family:book extra compressed"><span style="font-size:12.0pt">cheese and pepper pasta) -&nbsp\; Oven roasted chicken breast tossed with fettuccini pasta with a creamy parmesan and black pepper sauce served with garlic toast&nbsp\;&nbsp\; 18.99</span></span></span><br />\n<strong><span style="font-family:monotype corsiva"><span style="font-size:17.0pt">Stuffed Pork Chops</span></span></strong><span style="color:#1C1C1C"><span style="font-family:book extra compressed"><span style="font-size:12.0pt">-&nbsp\; Jumbo bone in pork chop stuffed with apples and bacon finished with a bourbon and bacon cream sauce served with roasted red potatoes and vegetables&nbsp\;&nbsp\; 20.99</span></span></span><br />\n<strong><span style="font-family:monotype corsiva"><span style="font-size:17.0pt">Lobster&nbsp\; Stuffed Fish Roulade -&nbsp\; </span></span></strong><span style="color:#1C1C1C"><span style="font-family:book extra compressed"><span style="font-size:12.0pt">Fresh white fish rolled around house made Lobster Imperial then baked and finished with a citrus reduction served with roasted red potatoes and vegetables&nbsp\;&nbsp\; 21.99</span></span></span><br />\n<strong><span style="font-family:monotype corsiva"><span style="font-size:17.0pt">Lobster Mac&nbsp\; &amp\; Cheese -&nbsp\; </span></span></strong><span style="color:#1C1C1C"><span style="font-family:book extra compressed"><span style="font-size:12.0pt">Fresh lobster meat blended into a cream cheese sauce and tossed with cavatappi pasta served with garlic toast&nbsp\;&nbsp\; 26.99</span></span></span><br />\n<strong><span style="font-family:monotype corsiva"><span style="font-size:17.0pt">Surf &amp\; Turf -&nbsp\; </span></span></strong><span style="color:#1C1C1C"><span style="font-family:book extra compressed"><span style="font-size:12.0pt">8oz Filet Mignon paired with succulent bacon wrapped jumbo gulf shrimp topped with house made bourbon barbeque sauce served with roasted red potatoes and vegetable&nbsp\;&nbsp\; 28.99</span></span></span><br />\n&nbsp\;</div>\n
LOCATION:The Salted Rim Restaurant 27 Atlantic Avenue Ocean View\, DE 19970 302-537-7373
UID:e.2126.20049
SEQUENCE:3
DTSTAMP:20260426T003547Z
URL:http://business.thequietresorts.com/events/details/valentine-s-dinner-in-authentic-train-car-february-14-february-15-20049
END:VEVENT

END:VCALENDAR
