BEGIN:VCALENDAR
VERSION:2.0
PRODID:-//ChamberMaster//Event Calendar 2.0//EN
METHOD:PUBLISH
X-PUBLISHED-TTL:P3D
REFRESH-INTERVAL:P3D
CALSCALE:GREGORIAN
BEGIN:VEVENT
DTSTART:20210624T233000Z
DTEND:20210625T010000Z
X-MICROSOFT-CDO-ALLDAYEVENT:FALSE
SUMMARY:USAF Singing Sergeants
DESCRIPTION:The official chorus of the U.S. Air Force\, the Singing Sergeants presents more than 200 performances annually.  The ensemble features a wide range of musical styles: from traditional Americana\, opera\, and choral standards to modern Broadway and jazz. www.usafband.af.mil/ensembles
X-ALT-DESC;FMTTYPE=text/html:<span style="font-size:14px\;"><span style="font-family:arial\;">The official chorus of the U.S. Air Force\, the Singing Sergeants presents more than 200 performances annually.&nbsp\; The ensemble features a wide range of musical styles: from traditional Americana\, opera\, and choral standards to modern Broadway and jazz. <u>www.</u><u>usafband.af.mil/ensembles</u> &nbsp\;</span></span>
LOCATION:Bethany Beach Bandstand Garfield Parkway & Boardwalk\, Bethany Beach
UID:e.2126.22032
SEQUENCE:3
DTSTAMP:20260424T191814Z
URL:http://business.thequietresorts.com/events/details/usaf-singing-sergeants-06-24-2021-22032
END:VEVENT

END:VCALENDAR
