BEGIN:VCALENDAR
VERSION:2.0
PRODID:-//ChamberMaster//Event Calendar 2.0//EN
METHOD:PUBLISH
X-PUBLISHED-TTL:P3D
REFRESH-INTERVAL:P3D
CALSCALE:GREGORIAN
BEGIN:VEVENT
DTSTART:20240317T160000Z
DTEND:20240317T190000Z
X-MICROSOFT-CDO-ALLDAYEVENT:FALSE
SUMMARY:Unstoppable Joy Kids Carnival & Sponsorship Opportunities
DESCRIPTION:Come enjoy a Kids Carnival at the Carousel Hotel in Ocean City\, MD!\n\n\n\nThere will be lots of fun for the entire family!\n\n	carnival games\n	performances\n	DJ\n	face paiting\n	art\n	raffles\n	Live Mermaid Tasha\n	Hoola guru\n	Creative movement with Staci Alexander\n\nThe cost is $25 for a family of 4 or $5 each child\n\n\n\nThis event is the main fundraiser to help kids battling cancer and their families.\n\n\n\nSponsorship opportunities include:\n\n	raffle & door prizes\n	gift cards\n	performer sponsors\n	items for the kids healing bags.\n\nFor questions\, please contact Tonya at tonya@unstoppablejoyco.org.
X-ALT-DESC;FMTTYPE=text/html:Come enjoy a Kids Carnival at the Carousel Hotel in Ocean City\, MD!<br />\n<br />\nThere will be lots of fun for the entire family!\n<ul>\n	<li>carnival games</li>\n	<li>performances</li>\n	<li>DJ</li>\n	<li>face paiting</li>\n	<li>art</li>\n	<li>raffles</li>\n	<li>Live Mermaid Tasha</li>\n	<li>Hoola guru</li>\n	<li>Creative movement with Staci Alexander</li>\n</ul>\nThe cost is $25 for a family of 4 or $5 each child<br />\n<br />\nThis event is the main fundraiser to help kids battling cancer and their families.<br />\n<br />\nSponsorship opportunities include:\n<ul>\n	<li>raffle &amp\; door prizes</li>\n	<li>gift cards</li>\n	<li>performer sponsors</li>\n	<li>items for the kids healing bags.</li>\n</ul>\nFor questions\, please contact Tonya at&nbsp\;<a href="mailto:tonya@unstoppablejoyco.org" target="_blank">tonya@unstoppablejoyco.org</a>.<br />\n&nbsp\;
LOCATION:The Carousel Hotel 11700 Coastal Hwy. Ocean City\, MD 21842
UID:e.2126.28269
SEQUENCE:3
DTSTAMP:20260420T074025Z
URL:http://business.thequietresorts.com/events/details/unstoppable-joy-kids-carnival-sponsorship-opportunities-28269
END:VEVENT

END:VCALENDAR
