BEGIN:VCALENDAR
VERSION:2.0
PRODID:-//ChamberMaster//Event Calendar 2.0//EN
METHOD:PUBLISH
X-PUBLISHED-TTL:P3D
REFRESH-INTERVAL:P3D
CALSCALE:GREGORIAN
BEGIN:VEVENT
DTSTART:20221130T000000Z
DTEND:20221130T020000Z
X-MICROSOFT-CDO-ALLDAYEVENT:FALSE
SUMMARY:United We Are Dreaming
DESCRIPTION:United We Are Dreaming\n\nDefacto Americans seek a Pathway to Citizenship\n\n\nDo you need or currently employ multi-lingual employees?\n\nAre immigrant/newcomer families your customers or clients?\n\nIs a member of your family impacted by DACA legislation?\n\nDo you know a young person who would like to apply for DACA?\n\n\n\nIf you answered "yes' to any of those questions\, you should join us on November\, 29\,2022 at 7pm to view a 52 minute documentary that looks at the life circumstances of five Dreamers\, adults now 22 to 40 years of age\, who were brought to the United States as small children by undocumented parents. \n\nA panel moderated by Dr. Illeana Smith will follow the viewing.\n\n\n\nIf you are unable to join us in the theater\, you can view the livestream at : vineo.com/event/2614419
X-ALT-DESC;FMTTYPE=text/html:<div style="text-align: center\;"><strong>United We Are Dreaming<br />\n<span style="font-size:14px\;"><span style="font-family:arial\;">Defacto Americans seek a Pathway to Citizenship</span></span></strong></div>\n<br />\n<span style="font-size:14px\;"><span style="font-family:arial\;">Do you need or currently employ multi-lingual employees?<br />\nAre immigrant/newcomer families your customers or clients?<br />\nIs a member of your family impacted by DACA legislation?<br />\nDo you know a young person who would like to apply for DACA?<br />\n<br />\nIf you answered<strong> &quot\;yes&#39\;</strong> to any of those questions\, you should join us on<em><strong> November\, 29\,2022 at 7pm</strong></em> to view a 52 minute documentary that looks at the life circumstances of five Dreamers\, adults now 22 to 40 years of age\, who were brought to the United States as small children by undocumented parents.&nbsp\;<br />\n<em>A panel moderated by Dr. Illeana Smith will follow the viewing.</em><br />\n<br />\nIf you are unable to join us in the theater\, you can view the livestream at : vineo.com/event/2614419</span></span><br />\n&nbsp\;
LOCATION:Arts and Science Center/Theater/Owens Campus Delaware Technical Community College
UID:e.2126.24866
SEQUENCE:3
DTSTAMP:20260421T142040Z
URL:http://business.thequietresorts.com/events/details/united-we-are-dreaming-24866
END:VEVENT

END:VCALENDAR
