BEGIN:VCALENDAR
VERSION:2.0
PRODID:-//ChamberMaster//Event Calendar 2.0//EN
METHOD:PUBLISH
X-PUBLISHED-TTL:P3D
REFRESH-INTERVAL:P3D
CALSCALE:GREGORIAN
BEGIN:VEVENT
DTSTART:20240423T213000Z
DTEND:20240423T223000Z
X-MICROSOFT-CDO-ALLDAYEVENT:FALSE
SUMMARY:Understanding Credit at Georgetown Public Library
DESCRIPTION:Ready to take charge of your financial future? Tidemark Federal Credit Union invites you to a free event\, dedicated to empowering you with valuable knowledge about credit. Join us for our free event and discover the secrets to a stronger credit score and a brighter financial future!
X-ALT-DESC;FMTTYPE=text/html:Ready to take charge of your financial future? Tidemark Federal Credit Union invites you to a free event\, dedicated to empowering you with valuable knowledge about credit. Join us for our free event and discover the secrets to a stronger credit score and a brighter financial future!&nbsp\;
LOCATION:Georgetown Public Library 123 West Pine St. Georgetown\, DE 19947
UID:e.2126.28525
SEQUENCE:3
DTSTAMP:20260420T060326Z
URL:http://business.thequietresorts.com/events/details/understanding-credit-at-georgetown-public-library-28525
END:VEVENT

END:VCALENDAR
