BEGIN:VCALENDAR
VERSION:2.0
PRODID:-//ChamberMaster//Event Calendar 2.0//EN
METHOD:PUBLISH
X-PUBLISHED-TTL:P3D
REFRESH-INTERVAL:P3D
CALSCALE:GREGORIAN
BEGIN:VEVENT
DTSTART:20230729T140000Z
DTEND:20230729T150000Z
X-MICROSOFT-CDO-ALLDAYEVENT:FALSE
SUMMARY:Uncle Devin: In the Pocket Go Go Show
DESCRIPTION:ADMISSION: FREE\n\nThe Uncle Devin Show  is an interactive musical experience for children by renowned drummer\, Devin Walker. Uncle Devin and 25 other artists are members of the 1 Tribe Collective whose album "All One Tribe" was Grammy- nominated for Best Children's Music Album in 2022. The entire family will experience the rhythm of Uncle Devin's infectious blend of Jazz\, Funk\, and DC's official music\, Go-Go.\n\nThe show cultivates the minds of children through percussion instruments and is a dynamic cross between DC's Trouble Funk and Schoolhouse Rock. Uncle Devin is also a Teaching Artist with both the Wolf Trap Institute for Early Learning and Teaching for Change and owner of the children's online music platform\, WEE Nation Radio.\n\n \n\nFreeman Arts Pavilion Young Audience Series receives generous support from PNC Foundation:
X-ALT-DESC;FMTTYPE=text/html:<h6>ADMISSION: FREE</h6>\n\n<p>The Uncle Devin Show&reg\; is an interactive musical experience for children by renowned drummer\, Devin Walker. Uncle Devin and 25 other artists are members of the 1 Tribe Collective whose album &ldquo\;All One Tribe&rdquo\; was Grammy- nominated for Best Children&rsquo\;s Music Album in 2022. The entire family will experience the rhythm of Uncle Devin&rsquo\;s infectious blend of Jazz\, Funk\, and DC&rsquo\;s official music\, Go-Go.</p>\n\n<p>The show cultivates the minds of children through percussion instruments and is a dynamic cross between DC&rsquo\;s Trouble Funk and Schoolhouse Rock. Uncle Devin is also a Teaching Artist with both the Wolf Trap Institute for Early Learning and Teaching for Change and owner of the children&rsquo\;s online music platform\, WEE Nation Radio.<br />\n&nbsp\;</p>\n\n<p>Freeman Arts Pavilion Young Audience Series&nbsp\;receives generous support from PNC Foundation:</p>\n
LOCATION:Freeman Arts Pavilion a program of the Joshua M. Freeman Foundation is a champion of the arts on Delmarva\, providing diverse arts performances as well as arts access programs for local schools and the community at large. From June-September the Freeman Arts Pavilion is an open-air performance space showcasing music\, dance\, comedy\, theater\, children's programs\, and free events.
UID:e.2126.26110
SEQUENCE:3
DTSTAMP:20260420T230422Z
URL:http://business.thequietresorts.com/events/details/uncle-devin-in-the-pocket-go-go-show-26110
END:VEVENT

END:VCALENDAR
