BEGIN:VCALENDAR
VERSION:2.0
PRODID:-//ChamberMaster//Event Calendar 2.0//EN
METHOD:PUBLISH
X-PUBLISHED-TTL:P3D
REFRESH-INTERVAL:P3D
CALSCALE:GREGORIAN
BEGIN:VEVENT
DTSTART:20220721T233000Z
DTEND:20220722T010000Z
X-MICROSOFT-CDO-ALLDAYEVENT:FALSE
SUMMARY:U.S. Navy Cruisers
DESCRIPTION:The group takes its name from the Navy's versatile\, flexible\, multi-missioned ship   the Cruiser   and the band lives up to its namesake by having the capabilities of playing genres of music ranging from jazz & standards\, rhythm & blues\, classic rock\, adult contemporary and pop as well as original material. This elite group has engaged and excited audiences of all ages with world-class musicianship and high energy\, fun-filled performances. www.navyband.navy.mil/cruisers
X-ALT-DESC;FMTTYPE=text/html:<span dir="ltr" style="font-family:sans-serif\; font-size:13.4px">The group takes its</span><span dir="ltr" style="font-family:sans-serif\; font-size:13.4px"> name from the</span><span dir="ltr" style="font-family:sans-serif\; font-size:13.4px"> Navy&#39\;s versatile\, flexible\, multi</span><span dir="ltr" style="font-family:sans-serif\; font-size:13.4px">-</span><span dir="ltr" style="font-family:sans-serif\; font-size:13.4px">missioned</span><span dir="ltr" style="font-family:sans-serif\; font-size:13.4px"> ship</span><span dir="ltr" style="font-family:sans-serif\; font-size:13.4px"> </span><span dir="ltr" style="font-family:sans-serif\; font-size:13.4px">&ndash\;</span><span dir="ltr" style="font-family:sans-serif\; font-size:13.4px"> </span><span dir="ltr" style="font-family:sans-serif\; font-size:13.4px">the Cruiser</span><span dir="ltr" style="font-family:sans-serif\; font-size:13.4px"> </span><span dir="ltr" style="font-family:sans-serif\; font-size:13.4px">&ndash\;</span><span dir="ltr" style="font-family:sans-serif\; font-size:13.4px"> </span><span dir="ltr" style="font-family:sans-serif\; font-size:13.4px">and the band lives up</span><span dir="ltr" style="font-family:sans-serif\; font-size:13.4px"> to</span><span dir="ltr" style="font-family:sans-serif\; font-size:13.4px"> </span><span dir="ltr" style="font-family:sans-serif\; font-size:13.4px">its</span><span dir="ltr" style="font-family:sans-serif\; font-size:13.4px"> </span><span dir="ltr" style="font-family:sans-serif\; font-size:13.4px">namesake by having the capabilities</span><span dir="ltr" style="font-family:sans-serif\; font-size:13.4px"> of playing genres of music ranging from</span><span dir="ltr" style="font-family:sans-serif\; font-size:13.4px"> jazz &amp\; standards\, rhythm &amp\; blues\, class</span><span dir="ltr" style="font-family:sans-serif\; font-size:13.4px">ic</span><span dir="ltr" style="font-family:sans-serif\; font-size:13.4px"> rock\, adult contemporary and pop as well</span><span dir="ltr" style="font-family:sans-serif\; font-size:13.4px"> as original material. This elite group has</span><span dir="ltr" style="font-family:sans-serif\; font-size:13.4px"> engaged and excited audiences of all ages</span><span dir="ltr" style="font-family:sans-serif\; font-size:13.4px"> with world</span><span dir="ltr" style="font-family:sans-serif\; font-size:13.4px">-</span><span dir="ltr" style="font-family:sans-serif\; font-size:13.4px">class musicianship and high</span><span dir="ltr" style="font-family:sans-serif\; font-size:13.4px"> energy\, fun</span><span dir="ltr" style="font-family:sans-serif\; font-size:13.4px">-</span><span dir="ltr" style="font-family:sans-serif\; font-size:13.4px">filled performances.</span><span dir="ltr" style="font-family:sans-serif\; font-size:13.4px"> www.navyband.navy.mil/cruisers</span>
LOCATION:Bethany Beach Bandstand Garfield Parkway & Boardwalk\, Bethany Beach
UID:e.2126.23765
SEQUENCE:3
DTSTAMP:20260421T210719Z
URL:http://business.thequietresorts.com/events/details/u-s-navy-cruisers-23765
END:VEVENT

END:VCALENDAR
