BEGIN:VCALENDAR
VERSION:2.0
PRODID:-//ChamberMaster//Event Calendar 2.0//EN
METHOD:PUBLISH
X-PUBLISHED-TTL:P3D
REFRESH-INTERVAL:P3D
CALSCALE:GREGORIAN
BEGIN:VEVENT
DTSTART:20200913T000000Z
DTEND:20200913T020000Z
X-MICROSOFT-CDO-ALLDAYEVENT:FALSE
SUMMARY:Tusk: The World's #1 Tribute to Fleetwood Mac
DESCRIPTION:Tusk is the No. 1 Tribute to Fleetwood Mac in the world\, bar none. No fancy tricks\, no gimmicks\, just five musicians recreating the music of Fleetwood Mac to perfection with note for note renditions that no other Fleetwood Mac tribute on the touring scene today can come close to duplicating. Tusk covers all the great hits of Fleetwood Mac\, which has featured the talents of Mick Fleetwood\, Christine and John McVie\, Lindsey Buckingham\, Stevie Nicks and others over the years. The five seasoned\, well-respected musicians comprising Tusk have been making music together in 25 years. It seemed only fitting that they should come together to form the Ultimate Fleetwood Mac Tribute\, and pay homage to a group that dominated the charts during the band members' formative years. Authentic-sounding and always respectful\, Tusk leaves no stone unturned in replicating the sounds of one of the world's best-loved\, top-selling bands.
X-ALT-DESC;FMTTYPE=text/html:<span style="font-size: 14px\;"><span style="font-family: arial\;">Tusk is the No. 1 Tribute to Fleetwood Mac in the world\, bar none. No fancy tricks\, no gimmicks\, just five musicians recreating the music of Fleetwood Mac to perfection with note for note renditions that no other Fleetwood Mac tribute on the touring scene today can come close to duplicating. Tusk covers all the great hits of Fleetwood Mac\, which has featured the talents of Mick Fleetwood\, Christine and John McVie\, Lindsey Buckingham\, Stevie Nicks and others over the years. The five seasoned\, well-respected musicians comprising Tusk have been making music together in 25 years. It seemed only fitting that they should come together to form the Ultimate Fleetwood Mac Tribute\, and pay homage to a group that dominated the charts during the band members&rsquo\; formative years. Authentic-sounding and always respectful\, Tusk leaves no stone unturned in replicating the sounds of one of the world&rsquo\;s best-loved\, top-selling bands.</span></span>
LOCATION:The Freeman Stage 31750 Lake View Drive Selbyville\, DE 19975
UID:e.2126.21741
SEQUENCE:3
DTSTAMP:20260425T131552Z
URL:http://business.thequietresorts.com/events/details/tusk-the-world-s-1-tribute-to-fleetwood-mac-21741
END:VEVENT

END:VCALENDAR
