BEGIN:VCALENDAR
VERSION:2.0
PRODID:-//ChamberMaster//Event Calendar 2.0//EN
METHOD:PUBLISH
X-PUBLISHED-TTL:P3D
REFRESH-INTERVAL:P3D
CALSCALE:GREGORIAN
BEGIN:VEVENT
DTSTART:20230317T200000Z
DTEND:20230317T213000Z
X-MICROSOFT-CDO-ALLDAYEVENT:FALSE
SUMMARY:Turtle Beach Cafe Ribbon Cutting
DESCRIPTION:Join the staff at Turtle Beach Cafe for a Ribbon Cutting Ceremony to celebrate recent renovations to their Bethany Beach location on Friday\, March 17\, 2023. Festivities will be begin at 4:00pm with the ribbon cutting at 4:30pm. \n\n \n\nRefreshments will be provided!
X-ALT-DESC;FMTTYPE=text/html:<span style="color: rgb(51\, 51\, 51)\; font-family: sans-serif\, Arial\, Verdana\, &quot\;Trebuchet MS&quot\;\; font-size: 13px\; background-color: rgb(255\, 255\, 255)\;">Join the staff at Turtle Beach Cafe for a Ribbon Cutting Ceremony to celebrate recent renovations to their Bethany Beach location on Friday\, March 17\, 2023. Festivities will be begin at 4:00pm with the ribbon cutting at 4:30pm.&nbsp\;</span><br style="color: rgb(51\, 51\, 51)\; font-family: sans-serif\, Arial\, Verdana\, &quot\;Trebuchet MS&quot\;\; font-size: 13px\;" />\n<span style="color: rgb(51\, 51\, 51)\; font-family: sans-serif\, Arial\, Verdana\, &quot\;Trebuchet MS&quot\;\; font-size: 13px\; background-color: rgb(255\, 255\, 255)\;">&nbsp\;<br />\nRefreshments will be provided!</span>
LOCATION:Turtle Beach Cafe 98 Garfield Parkway Unit 102 Bethany Beach\, DE 19930
UID:e.2126.25248
SEQUENCE:3
DTSTAMP:20260421T055936Z
URL:http://business.thequietresorts.com/events/details/turtle-beach-cafe-ribbon-cutting-25248
END:VEVENT

END:VCALENDAR
