BEGIN:VCALENDAR
VERSION:2.0
PRODID:-//ChamberMaster//Event Calendar 2.0//EN
METHOD:PUBLISH
X-PUBLISHED-TTL:P3D
REFRESH-INTERVAL:P3D
CALSCALE:GREGORIAN
BEGIN:VEVENT
DTSTART:20210617T233000Z
DTEND:20210618T010000Z
X-MICROSOFT-CDO-ALLDAYEVENT:FALSE
SUMMARY:Triple Rail Turn
DESCRIPTION:THE Modern Country Band\, TRT is the area's answer to country music. A unique collection of musicians from varying backgrounds\, each member was selected not only for their musical prowess\, but their ability to put on a show. www.triplerailturn.com
X-ALT-DESC;FMTTYPE=text/html:<h1><span style="font-size:14px\;"><span style="font-family:arial\;"><span style="color:windowtext">THE Modern Country Band\, TRT is the area&#39\;s answer to country music. A unique collection of musicians from varying backgrounds\, each member was selected not only for their musical prowess\, but their ability to put on a show. <u>www.triplerailturn.com</u> </span></span></span></h1>\n
LOCATION:Bethany Beach Bandstand Garfield Parkway & Boardwalk\, Bethany Beach
UID:e.2126.22031
SEQUENCE:3
DTSTAMP:20260424T191807Z
URL:http://business.thequietresorts.com/events/details/triple-rail-turn-22031
END:VEVENT

END:VCALENDAR
