BEGIN:VCALENDAR
VERSION:2.0
PRODID:-//ChamberMaster//Event Calendar 2.0//EN
METHOD:PUBLISH
X-PUBLISHED-TTL:P3D
REFRESH-INTERVAL:P3D
CALSCALE:GREGORIAN
BEGIN:VEVENT
DTSTART:20201031T200000Z
DTEND:20201031T220000Z
X-MICROSOFT-CDO-ALLDAYEVENT:FALSE
SUMMARY:Trick or Treat for Toys for Tots & Screams at the Beach
DESCRIPTION:Trick or Treat for Toys for Tots!\n\nand Screams at the Beach\n\nSaturday - October 31st\n\n4:00pm - 6:00pm\n\n\n\nCome in costume and trick or treat through the haunted trail (kid friendly)\n\n\n\nParents - FREE\n\nKids - 1 toy for tots per child or $5 donation to toys for tots per child at the door. \n\nAll proceeds go to toys for tots!\n\n\n\n\n\nAfter the kids have had their fun it will be time for the adults to have theirs\n\nThe Original Screams at the Beach will begin at 7:00pm\n\nYou can purchase your tickets online or at the gate\n\n$15 ticket     https://www.screamsatthebeach.com/
X-ALT-DESC;FMTTYPE=text/html:<div style="text-align:center"><span style="color:#FF0000"><strong><span style="font-size:18px"><span style="font-family:comic sans ms">Trick or Treat for Toys for Tots!</span></span></strong></span></div>\n\n<div style="text-align:center"><span style="font-size:16px"><strong>and Screams at the Beach</strong></span></div>\n\n<div style="text-align:center">Saturday - October 31st<br />\n4:00pm - 6:00pm</div>\n\n<div style="text-align:center"><br />\nCome in costume and trick or treat through the haunted trail (kid friendly)</div>\n\n<div style="text-align:center"><br />\nParents - FREE</div>\n\n<div style="text-align:center">Kids - 1 toy for tots per child or $5 donation to toys for tots per child at the door.&nbsp\;</div>\n\n<div style="text-align:center">All proceeds go to toys for tots!<br />\n<br />\n<br />\nAfter the kids have had their fun it will be time for the adults to have theirs<br />\nThe Original Screams at the Beach will begin at 7:00pm<br />\nYou can purchase your tickets online or at the gate<br />\n$15 ticket&nbsp\; &bull\;&nbsp\;&nbsp\;<a href="https://www.screamsatthebeach.com/">https://www.screamsatthebeach.com/</a><br />\n<br />\n&nbsp\;</div>\n
LOCATION:35553 Atlantic Avenue Millville\, DE 19967
UID:e.2126.21807
SEQUENCE:3
DTSTAMP:20260425T131523Z
URL:http://business.thequietresorts.com/events/details/trick-or-treat-for-toys-for-tots-screams-at-the-beach-21807
END:VEVENT

END:VCALENDAR
