BEGIN:VCALENDAR
VERSION:2.0
PRODID:-//ChamberMaster//Event Calendar 2.0//EN
METHOD:PUBLISH
X-PUBLISHED-TTL:P3D
REFRESH-INTERVAL:P3D
CALSCALE:GREGORIAN
BEGIN:VEVENT
DTSTART:20230906T160000Z
DTEND:20230906T173000Z
X-MICROSOFT-CDO-ALLDAYEVENT:FALSE
SUMMARY:Trendy Shore Boutique Grand Opening Ribbon Cutting
DESCRIPTION:Join the Bethany-Fenwick Area Chamber of Commerce in celebrating the grand opening of Trendy Shore Boutique with a ribbon cutting on Wednesday\, September 6th!  Trendy Shore Boutique is a small\, family-owned\, boutique that offers trendy styles with a beachy vibe.  The festivities start at 12:00 PM with the ribbon to be cut at 1:00 PM.  There will be refreshments and a special sale during the event\, so be sure to swing by on your lunch hour!
X-ALT-DESC;FMTTYPE=text/html:Join the Bethany-Fenwick Area Chamber of Commerce in celebrating the grand opening of Trendy Shore Boutique with a ribbon cutting on Wednesday\, September 6th!&nbsp\; Trendy Shore Boutique is a small\, family-owned\, boutique that offers trendy styles with a beachy vibe.&nbsp\; The festivities start at 12:00 PM with the ribbon to be cut at 1:00 PM.&nbsp\; There will be refreshments and a special sale during the event\, so be sure to swing by on your lunch hour!
LOCATION:Trendy Shore Boutique 30558 Cedar Neck Rd. Ocean View\, DE 19970
UID:e.2126.26647
SEQUENCE:3
DTSTAMP:20260420T202222Z
URL:http://business.thequietresorts.com/events/details/trendy-shore-boutique-grand-opening-ribbon-cutting-26647
END:VEVENT

END:VCALENDAR
