BEGIN:VCALENDAR
VERSION:2.0
PRODID:-//ChamberMaster//Event Calendar 2.0//EN
METHOD:PUBLISH
X-PUBLISHED-TTL:P3D
REFRESH-INTERVAL:P3D
CALSCALE:GREGORIAN
BEGIN:VEVENT
DTSTART:20240402T190000Z
DTEND:20240402T203000Z
X-MICROSOFT-CDO-ALLDAYEVENT:FALSE
SUMMARY:Trendy Shore Boutique - 1 Year Anniversary Ribbon Cutting!
DESCRIPTION:NOW ON TUESDAY\, APRIL 2ND!\n\n\n\nJoin the Bethany-Fenwick Area Chamber of Commerce in celebrating Trendy Shore Boutique's first year in business with a ribbon cutting on Tuesday\, April 2nd!  To celebrate this milestone\, Trendy Shore Boutique will be holding a huge tent sale\, with 50% off select merchandise\, from 10AM - 5PM!  There will be also be a raffle drawing for a Trendy Shore gift bag valued at $100. \n\n\n\nThe Chamber ribbon cutting event is slated for 3:00 - 4:30PM\, with the ribbon to be cut at 4PM\, and any attendees during that time will receive a free recycled reusable tote bag!  This is one event you won't want to miss.
X-ALT-DESC;FMTTYPE=text/html:<span style="color:#008000\;">NOW ON TUESDAY\, APRIL 2ND!</span><br />\n<br />\nJoin the Bethany-Fenwick Area Chamber of Commerce in celebrating Trendy Shore Boutique&#39\;s first year in business with a ribbon cutting on Tuesday\, April 2nd!&nbsp\; To celebrate this milestone\, Trendy Shore Boutique will be holding a huge tent sale\, with 50% off select merchandise\, from 10AM - 5PM!&nbsp\; There will be also be a raffle drawing for a Trendy Shore gift bag valued at $100.&nbsp\;<br />\n<br />\nThe Chamber ribbon cutting event is slated for 3:00 - 4:30PM\, with the ribbon to be cut at 4PM\, and any attendees during that time will receive a free recycled reusable tote bag!&nbsp\; This is one event you won&#39\;t want to miss.&nbsp\;&nbsp\;<br />\n<br />\n&nbsp\;
LOCATION:Trendy Shore Boutique 30558 Cedar Neck Rd. Ocean View\, DE 19970
UID:e.2126.28512
SEQUENCE:3
DTSTAMP:20260420T061156Z
URL:http://business.thequietresorts.com/events/details/trendy-shore-boutique-1-year-anniversary-ribbon-cutting-28512
END:VEVENT

END:VCALENDAR
