BEGIN:VCALENDAR
VERSION:2.0
PRODID:-//ChamberMaster//Event Calendar 2.0//EN
METHOD:PUBLISH
X-PUBLISHED-TTL:P3D
REFRESH-INTERVAL:P3D
CALSCALE:GREGORIAN
BEGIN:VEVENT
DTSTART:20200726T000000Z
DTEND:20200726T020000Z
X-MICROSOFT-CDO-ALLDAYEVENT:FALSE
SUMMARY:Tranzfusion
DESCRIPTION:Tranzfusion is a classic rock band that performs songs from the '60s and '70s Including artists such as The Beatles\, Rolling Stones\, The Who\, The Doors\, The Moody Blues\, Santana\, Led Zeppelin\, Tom Petty\, also artists from the '80s including U2\, The Talking Heads\, Billy Idol\, Tears For Fears\, The Cars. They have been performing all over Maryland and have traveled up and down the East Coast from Pennsylvania to the Florida Keys since 1983. The members include Bobby Malaby\, drums and vocals\; Bob Davis\, keyboards\, bass guitar\, harmonica and vocals\; Hank Koenig\, guitar\, harmonica and vocals\; and Al Cook\, bass guitar\, guitar and vocals. Tranzfusion also has two sound techs\, Paul Brunkhorst and Scott Malaby. Tranzfusion has recorded three CDs of original music.
X-ALT-DESC;FMTTYPE=text/html:<span style="font-size: 14px\;"><span style="font-family: arial\;">Tranzfusion is a classic rock band that performs songs from the &#39\;60s and &#39\;70s Including artists such as The Beatles\, Rolling Stones\, The Who\, The Doors\, The Moody Blues\, Santana\, Led Zeppelin\, Tom Petty\, also artists from the &#39\;80s including U2\, The Talking Heads\, Billy Idol\, Tears For Fears\, The Cars. They have been performing all over Maryland and have traveled up and down the East Coast from Pennsylvania to the Florida Keys since 1983. The members include Bobby Malaby\, drums and vocals\; Bob Davis\, keyboards\, bass guitar\, harmonica and vocals\; Hank Koenig\, guitar\, harmonica and vocals\; and Al Cook\, bass guitar\, guitar and vocals. Tranzfusion also has two sound techs\, Paul Brunkhorst and Scott Malaby. Tranzfusion has recorded three CDs of original music.</span></span>
LOCATION:The Freeman Stage 31750 Lake View Drive Selbyville\, DE 19975
UID:e.2126.21700
SEQUENCE:3
DTSTAMP:20260425T162915Z
URL:http://business.thequietresorts.com/events/details/tranzfusion-21700
END:VEVENT

END:VCALENDAR
