BEGIN:VCALENDAR
VERSION:2.0
PRODID:-//ChamberMaster//Event Calendar 2.0//EN
METHOD:PUBLISH
X-PUBLISHED-TTL:P3D
REFRESH-INTERVAL:P3D
CALSCALE:GREGORIAN
BEGIN:VEVENT
DTSTART:20240309T140000Z
DTEND:20240309T163000Z
X-MICROSOFT-CDO-ALLDAYEVENT:FALSE
SUMMARY:Trail Day at Holts Landing State Park
DESCRIPTION:Friends of Landing State Park meet at the Maintenance Building near the Toll Booth. Activities differ ever month and may include: picking up trash\, clipping back weeds along the trails\, removing small limbs impeding the trails\, refreshing mulch in the playground\, hanging or removing the soccer nets (depending on the season)\, reporting downed trees and general damage around the amazing natural features of the park.  Coffee and donuts are provided at each Trail Day.  For more information email Chuck at cschonder3@gmail.com.
X-ALT-DESC;FMTTYPE=text/html:Friends of Landing State Park meet at the Maintenance Building near the Toll Booth. Activities differ ever month and may include: picking up trash\, clipping back weeds along the trails\, removing small limbs impeding the trails\, refreshing mulch in the playground\, hanging or removing the soccer nets (depending on the season)\, reporting downed trees and general damage around the amazing natural features of the park.&nbsp\; Coffee and donuts are provided at each Trail Day.&nbsp\; For more information email Chuck at cschonder3@gmail.com.
LOCATION:27046 Holts Landing Rd\, Dagsboro\, DE 19939
UID:e.2126.26918
SEQUENCE:3
DTSTAMP:20260420T073934Z
URL:http://business.thequietresorts.com/events/details/trail-day-03-09-2024-26918
END:VEVENT

END:VCALENDAR
