BEGIN:VCALENDAR
VERSION:2.0
PRODID:-//ChamberMaster//Event Calendar 2.0//EN
METHOD:PUBLISH
X-PUBLISHED-TTL:P3D
REFRESH-INTERVAL:P3D
CALSCALE:GREGORIAN
BEGIN:VEVENT
DTSTART:20211127T180000Z
DTEND:20211127T230000Z
X-MICROSOFT-CDO-ALLDAYEVENT:FALSE
SUMMARY:Town of Ocean View's Old Town Holiday Market & Tree Lighting
DESCRIPTION:Join the Town of Ocean View on Saturday\, November 27 from 1:00 pm - 6:00 pm for our annual Old Town Holiday Market & Tree Lighting. Join our community as we welcome the holiday season in style!\n\n\n\nActivities\n\n	Free train rides through the park\n	Holiday family photo opportunities\n	Ceremonial holiday tree lighting and a special guest visiting from the North Pole\n	Holiday Trail of Lights\n	Musical performance by Notes on the Beach and the Indian River High School Tri-Music Honor Society Choir\n	Coastal Towns Historic Village Home Tours and Hall's Store ribbon cutting with Lt. Governor Bethany Hall-Long\n	\n		 Ribbon cutting at 2:00 pm\n	\n	\n	Holiday movie in the park at dusk after tree lighting ceremony\n\n\n\nFood\n\n\n	Vendors include:\n\n	\n		 Parsons Farm\n		Inland Bays Garden Center\n		Local Coffee Co. and more!\n	\n	\n	Warm beverages\, roasted chestnuts\, hot dogs\, pretzels\, sweets and more!
X-ALT-DESC;FMTTYPE=text/html:<span style="font-family:arial\;"><span style="font-size:14px\;">Join the Town of Ocean View on Saturday\, November 27 from 1:00 pm - 6:00 pm for our annual Old Town Holiday Market &amp\; Tree Lighting. Join our community as we welcome the holiday season in style!<br />\n<br />\nActivities</span></span>\n<ul>\n	<li><span style="font-family:arial\;"><span style="font-size:14px\;">Free train rides through the park</span></span></li>\n	<li><span style="font-family:arial\;"><span style="font-size:14px\;">Holiday family photo opportunities</span></span></li>\n	<li><span style="font-family:arial\;"><span style="font-size:14px\;">Ceremonial holiday tree lighting and a special guest visiting from the North Pole</span></span></li>\n	<li><span style="font-family:arial\;"><span style="font-size:14px\;">Holiday Trail of Lights</span></span></li>\n	<li><span style="font-family:arial\;"><span style="font-size:14px\;">Musical performance by Notes on the Beach and the Indian River High School Tri-Music Honor Society Choir</span></span></li>\n	<li><span style="font-family:arial\;"><span style="font-size:14px\;">Coastal Towns Historic Village Home Tours and Hall&#39\;s Store ribbon cutting with Lt. Governor Bethany Hall-Long</span></span>\n	<ul>\n		<li><span style="font-family:arial\;"><span style="font-size:14px\;">&#8203\;Ribbon cutting at 2:00 pm</span></span></li>\n	</ul>\n	</li>\n	<li><span style="font-family:arial\;"><span style="font-size:14px\;">Holiday movie in the park at dusk after tree lighting ceremony</span></span></li>\n</ul>\n<br />\n<span style="font-family:arial\;"><span style="font-size:14px\;">Food</span></span>\n\n<ul>\n	<li><span style="font-family:arial\;"><span style="font-size:14px\;">Vendors include:</span></span>\n\n	<ul>\n		<li><span style="font-family:arial\;"><span style="font-size:14px\;">&#8203\;Parsons Farm</span></span></li>\n		<li><span style="font-family:arial\;"><span style="font-size:14px\;">Inland Bays Garden Center</span></span></li>\n		<li><span style="font-family:arial\;"><span style="font-size:14px\;">Local Coffee Co. and more!</span></span></li>\n	</ul>\n	</li>\n	<li><span style="font-family:arial\;"><span style="font-size:14px\;">Warm beverages\, roasted chestnuts\, hot dogs\, pretzels\, sweets and more!</span></span></li>\n</ul>\n
LOCATION:John West Park 32 West Ave Ocean View\, DE 19970
UID:e.2126.23101
SEQUENCE:3
DTSTAMP:20260424T102711Z
URL:http://business.thequietresorts.com/events/details/town-of-ocean-view-s-old-town-holiday-market-tree-lighting-23101
END:VEVENT

END:VCALENDAR
