BEGIN:VCALENDAR
VERSION:2.0
PRODID:-//ChamberMaster//Event Calendar 2.0//EN
METHOD:PUBLISH
X-PUBLISHED-TTL:P3D
REFRESH-INTERVAL:P3D
CALSCALE:GREGORIAN
BEGIN:VEVENT
DTSTART:20211201T220000Z
DTEND:20211202T010000Z
X-MICROSOFT-CDO-ALLDAYEVENT:FALSE
SUMMARY:Town of Millville's First Annual Christmas Tree Lighting
DESCRIPTION:Join the Town of Millville on Wednesday\, December 1\, for our first annual Christmas Tree Lighting. The event will be hosted at Evans Park in Millville and will feature fun activities such as an Ugly Sweater/Hat Contest\, Christmas carols\, a special visit from Santa and much more!\n\n\n\nActivities and food will be provided by Kristina's Kitchen\, Agape Creamery and Lord's Landscaping.\n\n\n\nThe Christmas tree lighting will occur at 6:15 pm
X-ALT-DESC;FMTTYPE=text/html:<span style="font-family:arial\;"><span style="font-size:14px\;">Join the Town of Millville on Wednesday\, December 1\, for our first annual Christmas Tree Lighting. The event will be hosted at Evans Park in Millville and will feature fun activities such as an Ugly Sweater/Hat Contest\, Christmas carols\, a special visit from Santa and much more!<br />\n<br />\nActivities and food will be provided by Kristina&#39\;s Kitchen\, Agape Creamery and Lord&#39\;s Landscaping.<br />\n<br />\nThe Christmas tree lighting will occur at 6:15 pm</span></span>
LOCATION:Evans Park at Millville 32517 Dukes Dr Millville\, DE 19967
UID:e.2126.23100
SEQUENCE:3
DTSTAMP:20260424T084649Z
URL:http://business.thequietresorts.com/events/details/town-of-millville-s-first-annual-christmas-tree-lighting-23100
END:VEVENT

END:VCALENDAR
