BEGIN:VCALENDAR
VERSION:2.0
PRODID:-//ChamberMaster//Event Calendar 2.0//EN
METHOD:PUBLISH
X-PUBLISHED-TTL:P3D
REFRESH-INTERVAL:P3D
CALSCALE:GREGORIAN
BEGIN:VEVENT
DTSTART:20191207T170000Z
DTEND:20191207T170000Z
X-MICROSOFT-CDO-ALLDAYEVENT:FALSE
SUMMARY:Town of Bethany Beach Tree Lighting
DESCRIPTION:At 5 p.m. the fifth annual lighting of the holiday tree will take place on the Bandstand Plaza.  Gather with friends and family for a special concert featuring the Southern Delaware School of the Arts Show Choir.  Attendees are encouraged to bring hats\, gloves\, scarves\, and canned goods to be donated to local charities.  Those who cannot attend the event can watch it on the West view beach cam via the Town website.
X-ALT-DESC;FMTTYPE=text/html:<span style="font-size: 14px\;"><span style="font-family: arial\;"><span style="color: black\;">At 5 p.m. the fifth annual lighting of the holiday tree will take place on the Bandstand Plaza.&nbsp\; Gather with friends and family for a special concert featuring the Southern Delaware School of the Arts Show Choir.&nbsp\; Attendees are encouraged to bring hats\, gloves\, scarves\, and canned goods to be donated to local charities.&nbsp\; Those who cannot attend the event can watch it on the West view beach cam via the Town website. </span></span></span><br />\n&nbsp\;
LOCATION:1 Garfield Parkway Bethany Beach\, DE 19930
UID:e.2126.18409
SEQUENCE:3
DTSTAMP:20260426T034423Z
URL:http://business.thequietresorts.com/events/details/town-of-bethany-beach-tree-lighting-18409
END:VEVENT

END:VCALENDAR
